BEGIN:VCALENDAR
VERSION:2.0
PRODID:-//Brant Safety Village - ECPv6.15.20//NONSGML v1.0//EN
CALSCALE:GREGORIAN
METHOD:PUBLISH
X-WR-CALNAME:Brant Safety Village
X-ORIGINAL-URL:https://brantsafetyvillage.ca
X-WR-CALDESC:Events for Brant Safety Village
REFRESH-INTERVAL;VALUE=DURATION:PT1H
X-Robots-Tag:noindex
X-PUBLISHED-TTL:PT1H
BEGIN:VTIMEZONE
TZID:UTC
BEGIN:STANDARD
TZOFFSETFROM:+0000
TZOFFSETTO:+0000
TZNAME:UTC
DTSTART:20250101T000000
END:STANDARD
END:VTIMEZONE
BEGIN:VEVENT
DTSTART;TZID=UTC:20260422T100000
DTEND;TZID=UTC:20260422T113000
DTSTAMP:20260422T061812
CREATED:20260128T145342Z
LAST-MODIFIED:20260327T144407Z
UID:15896-1776852000-1776857400@brantsafetyvillage.ca
SUMMARY:BID 719 Kindergarten (AM) - Approx. 44 students
DESCRIPTION:JK & SK…please keep classes seperate.  JK together and SK together.  Don’t mix them.
URL:https://brantsafetyvillage.ca/event/bid-719-kidergarten-am-appro-44-students/
CATEGORIES:Brantford Fire,Brantford Police,Kindergarten
END:VEVENT
BEGIN:VEVENT
DTSTART;TZID=UTC:20260422T123000
DTEND;TZID=UTC:20260422T140000
DTSTAMP:20260422T061812
CREATED:20260304T160649Z
LAST-MODIFIED:20260327T144228Z
UID:16007-1776861000-1776866400@brantsafetyvillage.ca
SUMMARY:BID 745 Kindergarten (PM) - Approx. 6 students
DESCRIPTION:
URL:https://brantsafetyvillage.ca/event/bid-745-grade-4-science-of-fire-pm-approx-4-students/
CATEGORIES:Brantford Fire,Brantford Police
END:VEVENT
END:VCALENDAR