BEGIN:VCALENDAR
VERSION:2.0
PRODID:-//Brant Safety Village - ECPv6.15.20//NONSGML v1.0//EN
CALSCALE:GREGORIAN
METHOD:PUBLISH
X-WR-CALNAME:Brant Safety Village
X-ORIGINAL-URL:https://brantsafetyvillage.ca
X-WR-CALDESC:Events for Brant Safety Village
REFRESH-INTERVAL;VALUE=DURATION:PT1H
X-Robots-Tag:noindex
X-PUBLISHED-TTL:PT1H
BEGIN:VTIMEZONE
TZID:UTC
BEGIN:STANDARD
TZOFFSETFROM:+0000
TZOFFSETTO:+0000
TZNAME:UTC
DTSTART:20220101T000000
END:STANDARD
END:VTIMEZONE
BEGIN:VEVENT
DTSTART;TZID=UTC:20231101T100000
DTEND;TZID=UTC:20231101T113000
DTSTAMP:20260420T205237
CREATED:20230908T153958Z
LAST-MODIFIED:20230912T140123Z
UID:10744-1698832800-1698838200@brantsafetyvillage.ca
SUMMARY:Grade 2 Fire Safety (Approx 17 students)
DESCRIPTION:
URL:https://brantsafetyvillage.ca/event/grade-2-fire-safety-approx-20-students-2/
CATEGORIES:Brantford Fire,Grade 2
END:VEVENT
BEGIN:VEVENT
DTSTART;TZID=UTC:20231102T100000
DTEND;TZID=UTC:20231102T113000
DTSTAMP:20260420T205237
CREATED:20230908T154153Z
LAST-MODIFIED:20230908T154153Z
UID:10748-1698919200-1698924600@brantsafetyvillage.ca
SUMMARY:Grade 2 Fire Safety (Approx 20 students)
DESCRIPTION:
URL:https://brantsafetyvillage.ca/event/grade-2-fire-safety-approx-20-students-3/
CATEGORIES:Brantford Fire,Grade 2
END:VEVENT
BEGIN:VEVENT
DTSTART;TZID=UTC:20231102T123000
DTEND;TZID=UTC:20231102T140000
DTSTAMP:20260420T205237
CREATED:20230912T133504Z
LAST-MODIFIED:20230912T133504Z
UID:10767-1698928200-1698933600@brantsafetyvillage.ca
SUMMARY:Grade 2 Fire Safety - (Approx 9 students)
DESCRIPTION:
URL:https://brantsafetyvillage.ca/event/grade-2-fire-safety-approx-9-students-2/
CATEGORIES:Brantford Fire,Grade 2
END:VEVENT
BEGIN:VEVENT
DTSTART;TZID=UTC:20231103T100000
DTEND;TZID=UTC:20231103T113000
DTSTAMP:20260420T205237
CREATED:20230908T154627Z
LAST-MODIFIED:20230908T154627Z
UID:10756-1699005600-1699011000@brantsafetyvillage.ca
SUMMARY:Grade 2 Fire Safety (Approx 17 students)
DESCRIPTION:
URL:https://brantsafetyvillage.ca/event/grade-2-fire-safety-approx-17-students/
CATEGORIES:Brantford Fire,Grade 2
END:VEVENT
BEGIN:VEVENT
DTSTART;TZID=UTC:20231103T123000
DTEND;TZID=UTC:20231103T140000
DTSTAMP:20260420T205237
CREATED:20230908T154300Z
LAST-MODIFIED:20230908T154300Z
UID:10750-1699014600-1699020000@brantsafetyvillage.ca
SUMMARY:Grade 2 Fire Safety (Approx 9 students)
DESCRIPTION:
URL:https://brantsafetyvillage.ca/event/grade-2-fire-safety-approx-9-students/
CATEGORIES:Brantford Fire,Grade 2
END:VEVENT
BEGIN:VEVENT
DTSTART;TZID=UTC:20231108T100000
DTEND;TZID=UTC:20231108T113000
DTSTAMP:20260420T205237
CREATED:20230912T135542Z
LAST-MODIFIED:20230912T135542Z
UID:10773-1699437600-1699443000@brantsafetyvillage.ca
SUMMARY:Grade 2 Fire Safety - (Approx 28 students)
DESCRIPTION:Morning
URL:https://brantsafetyvillage.ca/event/grade-2-fire-safety-approx-28-students/
CATEGORIES:Brantford Fire,Grade 2
END:VEVENT
BEGIN:VEVENT
DTSTART;TZID=UTC:20231108T123000
DTEND;TZID=UTC:20231108T140000
DTSTAMP:20260420T205237
CREATED:20231025T130355Z
LAST-MODIFIED:20231025T130355Z
UID:10990-1699446600-1699452000@brantsafetyvillage.ca
SUMMARY:Grade 2 Fire - Approx 30 Students
DESCRIPTION:
URL:https://brantsafetyvillage.ca/event/grade-2-fire-approx-30-students/
CATEGORIES:Brantford Fire,Grade 2
END:VEVENT
BEGIN:VEVENT
DTSTART;TZID=UTC:20231109T123000
DTEND;TZID=UTC:20231109T140000
DTSTAMP:20260420T205237
CREATED:20231018T141636Z
LAST-MODIFIED:20231018T141636Z
UID:10946-1699533000-1699538400@brantsafetyvillage.ca
SUMMARY:Grade 2 Fire
DESCRIPTION:
URL:https://brantsafetyvillage.ca/event/grade-2-fire-3/
CATEGORIES:Brantford Fire,Grade 2
END:VEVENT
BEGIN:VEVENT
DTSTART;TZID=UTC:20231110T100000
DTEND;TZID=UTC:20231110T113000
DTSTAMP:20260420T205237
CREATED:20230927T134239Z
LAST-MODIFIED:20230927T134239Z
UID:10866-1699610400-1699615800@brantsafetyvillage.ca
SUMMARY:Grade 2 Fire Safety - Approx 22 Students - morning
DESCRIPTION:
URL:https://brantsafetyvillage.ca/event/grade-2-fire-safety-approx-22-students-morning-2/
CATEGORIES:Brantford Fire,Grade 2
END:VEVENT
BEGIN:VEVENT
DTSTART;TZID=UTC:20231110T123000
DTEND;TZID=UTC:20231110T140000
DTSTAMP:20260420T205237
CREATED:20231018T141913Z
LAST-MODIFIED:20231018T141913Z
UID:10950-1699619400-1699624800@brantsafetyvillage.ca
SUMMARY:Grade 2 Fire
DESCRIPTION:
URL:https://brantsafetyvillage.ca/event/grade-2-fire-4/
CATEGORIES:Brantford Fire,Grade 2
END:VEVENT
BEGIN:VEVENT
DTSTART;TZID=UTC:20231114T100000
DTEND;TZID=UTC:20231114T113000
DTSTAMP:20260420T205237
CREATED:20230922T150910Z
LAST-MODIFIED:20230922T150910Z
UID:10839-1699956000-1699961400@brantsafetyvillage.ca
SUMMARY:Grade 2 Fire Safety - (Approx 30 students) morning
DESCRIPTION:
URL:https://brantsafetyvillage.ca/event/grade-2-fire-safety-approx-30-students-morning-2/
CATEGORIES:Brantford Fire,Grade 2
END:VEVENT
BEGIN:VEVENT
DTSTART;TZID=UTC:20231116T093000
DTEND;TZID=UTC:20231116T143000
DTSTAMP:20260420T205237
CREATED:20231101T182653Z
LAST-MODIFIED:20231101T182653Z
UID:11121-1700127000-1700145000@brantsafetyvillage.ca
SUMMARY:KIDS
DESCRIPTION:
URL:https://brantsafetyvillage.ca/event/kids-2/
CATEGORIES:Brantford Fire,Grade 6
END:VEVENT
BEGIN:VEVENT
DTSTART;TZID=UTC:20231122T093000
DTEND;TZID=UTC:20231122T143000
DTSTAMP:20260420T205237
CREATED:20231101T182843Z
LAST-MODIFIED:20231101T182843Z
UID:11125-1700645400-1700663400@brantsafetyvillage.ca
SUMMARY:KIDS
DESCRIPTION:
URL:https://brantsafetyvillage.ca/event/kids-4/
CATEGORIES:Brantford Fire,Grade 6
END:VEVENT
BEGIN:VEVENT
DTSTART;TZID=UTC:20231123T093000
DTEND;TZID=UTC:20231123T143000
DTSTAMP:20260420T205237
CREATED:20231101T183010Z
LAST-MODIFIED:20231101T183010Z
UID:11127-1700731800-1700749800@brantsafetyvillage.ca
SUMMARY:KIDS - Approx 28 students
DESCRIPTION:
URL:https://brantsafetyvillage.ca/event/kids-approx-28-students/
CATEGORIES:Brantford Fire,Brantford Police,Grade 6
END:VEVENT
BEGIN:VEVENT
DTSTART;TZID=UTC:20231129T093000
DTEND;TZID=UTC:20231129T143000
DTSTAMP:20260420T205237
CREATED:20231101T183206Z
LAST-MODIFIED:20231101T183206Z
UID:11129-1701250200-1701268200@brantsafetyvillage.ca
SUMMARY:KIDS - Approx 25 students
DESCRIPTION:
URL:https://brantsafetyvillage.ca/event/kids-approx-25-students/
CATEGORIES:Brantford Fire,Brantford Police,Grade 6
END:VEVENT
BEGIN:VEVENT
DTSTART;TZID=UTC:20231130T093000
DTEND;TZID=UTC:20231130T143000
DTSTAMP:20260420T205237
CREATED:20231101T183252Z
LAST-MODIFIED:20231101T183252Z
UID:11131-1701336600-1701354600@brantsafetyvillage.ca
SUMMARY:KIDS - Approx 28 Students
DESCRIPTION:
URL:https://brantsafetyvillage.ca/event/kids-approx-28-students-2/
CATEGORIES:Brantford Fire,Brantford Police,Grade 6
END:VEVENT
END:VCALENDAR