BEGIN:VCALENDAR
VERSION:2.0
PRODID:-//Brant Safety Village - ECPv6.15.20//NONSGML v1.0//EN
CALSCALE:GREGORIAN
METHOD:PUBLISH
X-ORIGINAL-URL:https://brantsafetyvillage.ca
X-WR-CALDESC:Events for Brant Safety Village
REFRESH-INTERVAL;VALUE=DURATION:PT1H
X-Robots-Tag:noindex
X-PUBLISHED-TTL:PT1H
BEGIN:VTIMEZONE
TZID:UTC
BEGIN:STANDARD
TZOFFSETFROM:+0000
TZOFFSETTO:+0000
TZNAME:UTC
DTSTART:20230101T000000
END:STANDARD
END:VTIMEZONE
BEGIN:VEVENT
DTSTART;TZID=UTC:20240110T093000
DTEND;TZID=UTC:20240110T143000
DTSTAMP:20260420T175842
CREATED:20231102T131401Z
LAST-MODIFIED:20231102T131401Z
UID:11152-1704879000-1704897000@brantsafetyvillage.ca
SUMMARY:KIDS - Approx 23 Students
DESCRIPTION:
URL:https://brantsafetyvillage.ca/event/kids-approx-23-students-2/
CATEGORIES:Brantford Fire,Brantford Police,Grade 6
END:VEVENT
BEGIN:VEVENT
DTSTART;TZID=UTC:20240111T093000
DTEND;TZID=UTC:20240111T143000
DTSTAMP:20260420T175842
CREATED:20231102T131503Z
LAST-MODIFIED:20231102T131503Z
UID:11154-1704965400-1704983400@brantsafetyvillage.ca
SUMMARY:KIDS - Approx 34 Students
DESCRIPTION:
URL:https://brantsafetyvillage.ca/event/kids-approx-34-students/
CATEGORIES:Brantford Fire,Brantford Police,Grade 6
END:VEVENT
BEGIN:VEVENT
DTSTART;TZID=UTC:20240112T093000
DTEND;TZID=UTC:20240112T143000
DTSTAMP:20260420T175842
CREATED:20231102T131556Z
LAST-MODIFIED:20231102T131556Z
UID:11156-1705051800-1705069800@brantsafetyvillage.ca
SUMMARY:KIDS - Approx 27 Students
DESCRIPTION:
URL:https://brantsafetyvillage.ca/event/kids-approx-27-students/
CATEGORIES:Brantford Fire,Brantford Police,Grade 6
END:VEVENT
BEGIN:VEVENT
DTSTART;TZID=UTC:20240117T093000
DTEND;TZID=UTC:20240117T143000
DTSTAMP:20260420T175842
CREATED:20231102T131706Z
LAST-MODIFIED:20231102T131706Z
UID:11158-1705483800-1705501800@brantsafetyvillage.ca
SUMMARY:KIDS - Approx 20 students
DESCRIPTION:
URL:https://brantsafetyvillage.ca/event/kids-approx-20-students-2/
CATEGORIES:Brantford Fire,Brantford Police,Grade 6
END:VEVENT
BEGIN:VEVENT
DTSTART;TZID=UTC:20240118T090000
DTEND;TZID=UTC:20240118T143000
DTSTAMP:20260420T175842
CREATED:20231102T131753Z
LAST-MODIFIED:20231102T131753Z
UID:11160-1705568400-1705588200@brantsafetyvillage.ca
SUMMARY:KIDS - Approx 27 students
DESCRIPTION:
URL:https://brantsafetyvillage.ca/event/kids-approx-27-students-2/
CATEGORIES:Brantford Fire,Brantford Police,Grade 6
END:VEVENT
BEGIN:VEVENT
DTSTART;TZID=UTC:20240119T093000
DTEND;TZID=UTC:20240119T143000
DTSTAMP:20260420T175842
CREATED:20231102T132809Z
LAST-MODIFIED:20231102T132809Z
UID:11162-1705656600-1705674600@brantsafetyvillage.ca
SUMMARY:KIDS - Approx 28 students
DESCRIPTION:
URL:https://brantsafetyvillage.ca/event/kids-approx-28-students-4/
CATEGORIES:Brantford Fire,Brantford Police,Grade 6
END:VEVENT
BEGIN:VEVENT
DTSTART;TZID=UTC:20240124T093000
DTEND;TZID=UTC:20240124T143000
DTSTAMP:20260420T175842
CREATED:20231102T132857Z
LAST-MODIFIED:20231102T132857Z
UID:11164-1706088600-1706106600@brantsafetyvillage.ca
SUMMARY:KIDS - Approx 28 students
DESCRIPTION:
URL:https://brantsafetyvillage.ca/event/kids-approx-28-students-5/
CATEGORIES:Brantford Fire,Brantford Police,Grade 6
END:VEVENT
BEGIN:VEVENT
DTSTART;TZID=UTC:20240125T093000
DTEND;TZID=UTC:20240125T143000
DTSTAMP:20260420T175842
CREATED:20231102T132939Z
LAST-MODIFIED:20231102T132939Z
UID:11166-1706175000-1706193000@brantsafetyvillage.ca
SUMMARY:KIDS - Approx 18 students
DESCRIPTION:
URL:https://brantsafetyvillage.ca/event/kids-approx-18-students-2/
CATEGORIES:Brantford Fire,Brantford Police,Grade 6
END:VEVENT
BEGIN:VEVENT
DTSTART;TZID=UTC:20240131T093000
DTEND;TZID=UTC:20240131T143000
DTSTAMP:20260420T175842
CREATED:20231102T133131Z
LAST-MODIFIED:20231102T133131Z
UID:11170-1706693400-1706711400@brantsafetyvillage.ca
SUMMARY:KIDS - Approx 31 students
DESCRIPTION:
URL:https://brantsafetyvillage.ca/event/kids-approx-31-students-2/
CATEGORIES:Brantford Fire,Brantford Police,Grade 6
END:VEVENT
END:VCALENDAR