BEGIN:VCALENDAR
VERSION:2.0
PRODID:-//Brant Safety Village - ECPv6.15.20//NONSGML v1.0//EN
CALSCALE:GREGORIAN
METHOD:PUBLISH
X-WR-CALNAME:Brant Safety Village
X-ORIGINAL-URL:https://brantsafetyvillage.ca
X-WR-CALDESC:Events for Brant Safety Village
REFRESH-INTERVAL;VALUE=DURATION:PT1H
X-Robots-Tag:noindex
X-PUBLISHED-TTL:PT1H
BEGIN:VTIMEZONE
TZID:UTC
BEGIN:STANDARD
TZOFFSETFROM:+0000
TZOFFSETTO:+0000
TZNAME:UTC
DTSTART:20230101T000000
END:STANDARD
END:VTIMEZONE
BEGIN:VEVENT
DTSTART;TZID=UTC:20240515T100000
DTEND;TZID=UTC:20240515T113000
DTSTAMP:20260420T114951
CREATED:20240131T163710Z
LAST-MODIFIED:20240131T163710Z
UID:11576-1715767200-1715772600@brantsafetyvillage.ca
SUMMARY:Grade 4 Science of Fire - Approx. 25
DESCRIPTION:
URL:https://brantsafetyvillage.ca/event/grade-4-science-of-fire-approx-25-2/
CATEGORIES:Brantford Fire,Grade 4
END:VEVENT
BEGIN:VEVENT
DTSTART;TZID=UTC:20240515T123000
DTEND;TZID=UTC:20240515T140000
DTSTAMP:20260420T114951
CREATED:20240131T163547Z
LAST-MODIFIED:20240131T163547Z
UID:11574-1715776200-1715781600@brantsafetyvillage.ca
SUMMARY:Grade 4 Science of Fire - Approx. 25
DESCRIPTION:
URL:https://brantsafetyvillage.ca/event/grade-4-science-of-fire-approx-25/
CATEGORIES:Brantford Fire,Grade 4
END:VEVENT
BEGIN:VEVENT
DTSTART;TZID=UTC:20240516T123000
DTEND;TZID=UTC:20240516T140000
DTSTAMP:20260420T114951
CREATED:20231115T174611Z
LAST-MODIFIED:20231115T174611Z
UID:11391-1715862600-1715868000@brantsafetyvillage.ca
SUMMARY:Grade 4 - Science of Fire
DESCRIPTION:
URL:https://brantsafetyvillage.ca/event/grade-4-science-of-fire/
CATEGORIES:Brantford Fire,Grade 4
END:VEVENT
BEGIN:VEVENT
DTSTART;TZID=UTC:20240517T100000
DTEND;TZID=UTC:20240517T113000
DTSTAMP:20260420T114951
CREATED:20240307T144142Z
LAST-MODIFIED:20240426T183844Z
UID:11725-1715940000-1715945400@brantsafetyvillage.ca
SUMMARY:Grade 4 Fire Programme (Approx 8 students)
DESCRIPTION:
URL:https://brantsafetyvillage.ca/event/grade-4-fire-programme-approx-8-students/
CATEGORIES:Brantford Fire,Grade 4
END:VEVENT
BEGIN:VEVENT
DTSTART;TZID=UTC:20240517T123000
DTEND;TZID=UTC:20240517T140000
DTSTAMP:20260420T114951
CREATED:20240426T184033Z
LAST-MODIFIED:20240426T184033Z
UID:12199-1715949000-1715954400@brantsafetyvillage.ca
SUMMARY:Grade 4 Science of Fire
DESCRIPTION:
URL:https://brantsafetyvillage.ca/event/grade-4-science-of-fire-6/
CATEGORIES:Brantford Fire,Grade 4
END:VEVENT
BEGIN:VEVENT
DTSTART;TZID=UTC:20240517T123000
DTEND;TZID=UTC:20240517T140000
DTSTAMP:20260420T114951
CREATED:20240517T141222Z
LAST-MODIFIED:20240426T183938Z
UID:12179-1715949000-1715954400@brantsafetyvillage.ca
SUMMARY:Grade 4 - Science of Fire pm.
DESCRIPTION:
URL:https://brantsafetyvillage.ca/event/grade-4-science-of-fire-pm/
CATEGORIES:Brantford Fire,Grade 4
END:VEVENT
BEGIN:VEVENT
DTSTART;TZID=UTC:20240523T100000
DTEND;TZID=UTC:20240523T113000
DTSTAMP:20260420T114951
CREATED:20231213T150812Z
LAST-MODIFIED:20231213T150812Z
UID:11517-1716458400-1716463800@brantsafetyvillage.ca
SUMMARY:Grade 4 Science of Fire - Approx 20 students
DESCRIPTION:
URL:https://brantsafetyvillage.ca/event/grade-4-science-of-fire-approx-20-students/
CATEGORIES:Brantford Fire,Grade 4
END:VEVENT
BEGIN:VEVENT
DTSTART;TZID=UTC:20240523T123000
DTEND;TZID=UTC:20240523T140000
DTSTAMP:20260420T114951
CREATED:20240404T140252Z
LAST-MODIFIED:20240508T194943Z
UID:11895-1716467400-1716472800@brantsafetyvillage.ca
SUMMARY:Grade 4 Science of Fire - 28 students
DESCRIPTION:
URL:https://brantsafetyvillage.ca/event/grade-4-science-of-fire-28-students-2/
CATEGORIES:Brantford Fire,Grade 4
END:VEVENT
BEGIN:VEVENT
DTSTART;TZID=UTC:20240524T100000
DTEND;TZID=UTC:20240524T113000
DTSTAMP:20260420T114951
CREATED:20240216T170935Z
LAST-MODIFIED:20240425T152801Z
UID:11621-1716544800-1716550200@brantsafetyvillage.ca
SUMMARY:Grade4 Science of Fire 30
DESCRIPTION:
URL:https://brantsafetyvillage.ca/event/grade-3-bicycle-prgramme/
CATEGORIES:Brantford Fire,Grade 4
END:VEVENT
END:VCALENDAR