BEGIN:VCALENDAR
VERSION:2.0
PRODID:-//Brant Safety Village - ECPv6.15.20//NONSGML v1.0//EN
CALSCALE:GREGORIAN
METHOD:PUBLISH
X-ORIGINAL-URL:https://brantsafetyvillage.ca
X-WR-CALDESC:Events for Brant Safety Village
REFRESH-INTERVAL;VALUE=DURATION:PT1H
X-Robots-Tag:noindex
X-PUBLISHED-TTL:PT1H
BEGIN:VTIMEZONE
TZID:UTC
BEGIN:STANDARD
TZOFFSETFROM:+0000
TZOFFSETTO:+0000
TZNAME:UTC
DTSTART:20220101T000000
END:STANDARD
END:VTIMEZONE
BEGIN:VEVENT
DTSTART;TZID=UTC:20231221T093000
DTEND;TZID=UTC:20231221T143000
DTSTAMP:20260421T023154
CREATED:20231101T184945Z
LAST-MODIFIED:20231101T184945Z
UID:11149-1703151000-1703169000@brantsafetyvillage.ca
SUMMARY:KIDS - Approx 24 Students
DESCRIPTION:
URL:https://brantsafetyvillage.ca/event/kids-approx-24-students/
CATEGORIES:Brantford Fire,Brantford Police,Grade 6
END:VEVENT
BEGIN:VEVENT
DTSTART;TZID=UTC:20240110T093000
DTEND;TZID=UTC:20240110T143000
DTSTAMP:20260421T023154
CREATED:20231102T131401Z
LAST-MODIFIED:20231102T131401Z
UID:11152-1704879000-1704897000@brantsafetyvillage.ca
SUMMARY:KIDS - Approx 23 Students
DESCRIPTION:
URL:https://brantsafetyvillage.ca/event/kids-approx-23-students-2/
CATEGORIES:Brantford Fire,Brantford Police,Grade 6
END:VEVENT
BEGIN:VEVENT
DTSTART;TZID=UTC:20240111T093000
DTEND;TZID=UTC:20240111T143000
DTSTAMP:20260421T023154
CREATED:20231102T131503Z
LAST-MODIFIED:20231102T131503Z
UID:11154-1704965400-1704983400@brantsafetyvillage.ca
SUMMARY:KIDS - Approx 34 Students
DESCRIPTION:
URL:https://brantsafetyvillage.ca/event/kids-approx-34-students/
CATEGORIES:Brantford Fire,Brantford Police,Grade 6
END:VEVENT
BEGIN:VEVENT
DTSTART;TZID=UTC:20240112T093000
DTEND;TZID=UTC:20240112T143000
DTSTAMP:20260421T023154
CREATED:20231102T131556Z
LAST-MODIFIED:20231102T131556Z
UID:11156-1705051800-1705069800@brantsafetyvillage.ca
SUMMARY:KIDS - Approx 27 Students
DESCRIPTION:
URL:https://brantsafetyvillage.ca/event/kids-approx-27-students/
CATEGORIES:Brantford Fire,Brantford Police,Grade 6
END:VEVENT
BEGIN:VEVENT
DTSTART;TZID=UTC:20240117T093000
DTEND;TZID=UTC:20240117T143000
DTSTAMP:20260421T023154
CREATED:20231102T131706Z
LAST-MODIFIED:20231102T131706Z
UID:11158-1705483800-1705501800@brantsafetyvillage.ca
SUMMARY:KIDS - Approx 20 students
DESCRIPTION:
URL:https://brantsafetyvillage.ca/event/kids-approx-20-students-2/
CATEGORIES:Brantford Fire,Brantford Police,Grade 6
END:VEVENT
BEGIN:VEVENT
DTSTART;TZID=UTC:20240118T090000
DTEND;TZID=UTC:20240118T143000
DTSTAMP:20260421T023154
CREATED:20231102T131753Z
LAST-MODIFIED:20231102T131753Z
UID:11160-1705568400-1705588200@brantsafetyvillage.ca
SUMMARY:KIDS - Approx 27 students
DESCRIPTION:
URL:https://brantsafetyvillage.ca/event/kids-approx-27-students-2/
CATEGORIES:Brantford Fire,Brantford Police,Grade 6
END:VEVENT
BEGIN:VEVENT
DTSTART;TZID=UTC:20240119T093000
DTEND;TZID=UTC:20240119T143000
DTSTAMP:20260421T023154
CREATED:20231102T132809Z
LAST-MODIFIED:20231102T132809Z
UID:11162-1705656600-1705674600@brantsafetyvillage.ca
SUMMARY:KIDS - Approx 28 students
DESCRIPTION:
URL:https://brantsafetyvillage.ca/event/kids-approx-28-students-4/
CATEGORIES:Brantford Fire,Brantford Police,Grade 6
END:VEVENT
BEGIN:VEVENT
DTSTART;TZID=UTC:20240124T093000
DTEND;TZID=UTC:20240124T143000
DTSTAMP:20260421T023154
CREATED:20231102T132857Z
LAST-MODIFIED:20231102T132857Z
UID:11164-1706088600-1706106600@brantsafetyvillage.ca
SUMMARY:KIDS - Approx 28 students
DESCRIPTION:
URL:https://brantsafetyvillage.ca/event/kids-approx-28-students-5/
CATEGORIES:Brantford Fire,Brantford Police,Grade 6
END:VEVENT
BEGIN:VEVENT
DTSTART;TZID=UTC:20240125T093000
DTEND;TZID=UTC:20240125T143000
DTSTAMP:20260421T023154
CREATED:20231102T132939Z
LAST-MODIFIED:20231102T132939Z
UID:11166-1706175000-1706193000@brantsafetyvillage.ca
SUMMARY:KIDS - Approx 18 students
DESCRIPTION:
URL:https://brantsafetyvillage.ca/event/kids-approx-18-students-2/
CATEGORIES:Brantford Fire,Brantford Police,Grade 6
END:VEVENT
BEGIN:VEVENT
DTSTART;TZID=UTC:20240131T093000
DTEND;TZID=UTC:20240131T143000
DTSTAMP:20260421T023154
CREATED:20231102T133131Z
LAST-MODIFIED:20231102T133131Z
UID:11170-1706693400-1706711400@brantsafetyvillage.ca
SUMMARY:KIDS - Approx 31 students
DESCRIPTION:
URL:https://brantsafetyvillage.ca/event/kids-approx-31-students-2/
CATEGORIES:Brantford Fire,Brantford Police,Grade 6
END:VEVENT
BEGIN:VEVENT
DTSTART;TZID=UTC:20240201T093000
DTEND;TZID=UTC:20240201T143000
DTSTAMP:20260421T023154
CREATED:20231102T133241Z
LAST-MODIFIED:20231102T133241Z
UID:11172-1706779800-1706797800@brantsafetyvillage.ca
SUMMARY:KIDS - Approx 33 students
DESCRIPTION:
URL:https://brantsafetyvillage.ca/event/kids-approx-33-students/
CATEGORIES:Brantford Fire,Brantford Police,Grade 6
END:VEVENT
BEGIN:VEVENT
DTSTART;TZID=UTC:20240202T093000
DTEND;TZID=UTC:20240202T143000
DTSTAMP:20260421T023154
CREATED:20231102T133324Z
LAST-MODIFIED:20231102T133324Z
UID:11174-1706866200-1706884200@brantsafetyvillage.ca
SUMMARY:KIDS - Approx 27 students
DESCRIPTION:
URL:https://brantsafetyvillage.ca/event/kids-approx-27-students-3/
CATEGORIES:Brantford Fire,Brantford Police,Grade 6
END:VEVENT
BEGIN:VEVENT
DTSTART;TZID=UTC:20240207T093000
DTEND;TZID=UTC:20240207T143000
DTSTAMP:20260421T023154
CREATED:20231102T133413Z
LAST-MODIFIED:20231102T133413Z
UID:11176-1707298200-1707316200@brantsafetyvillage.ca
SUMMARY:KIDS - Approx 28 students
DESCRIPTION:
URL:https://brantsafetyvillage.ca/event/kids-approx-28-students-6/
CATEGORIES:Brantford Fire,Brantford Police,Grade 6
END:VEVENT
BEGIN:VEVENT
DTSTART;TZID=UTC:20240208T093000
DTEND;TZID=UTC:20240208T143000
DTSTAMP:20260421T023154
CREATED:20231102T133817Z
LAST-MODIFIED:20231102T133817Z
UID:11180-1707384600-1707402600@brantsafetyvillage.ca
SUMMARY:KIDS - Approx 25 students
DESCRIPTION:
URL:https://brantsafetyvillage.ca/event/kids-approx-25-students-4/
CATEGORIES:Brantford Fire,Brantford Police,Grade 6
END:VEVENT
BEGIN:VEVENT
DTSTART;TZID=UTC:20240209T093000
DTEND;TZID=UTC:20240209T143000
DTSTAMP:20260421T023154
CREATED:20231102T133632Z
LAST-MODIFIED:20231102T133632Z
UID:11178-1707471000-1707489000@brantsafetyvillage.ca
SUMMARY:KIDS - approx 25 students
DESCRIPTION:
URL:https://brantsafetyvillage.ca/event/kids-approx-25-students-3/
CATEGORIES:Brantford Fire,Brantford Police,Grade 6
END:VEVENT
BEGIN:VEVENT
DTSTART;TZID=UTC:20240215T093000
DTEND;TZID=UTC:20240215T143000
DTSTAMP:20260421T023154
CREATED:20231102T135752Z
LAST-MODIFIED:20231102T135752Z
UID:11185-1707989400-1708007400@brantsafetyvillage.ca
SUMMARY:KIDS - Approx 25 students
DESCRIPTION:
URL:https://brantsafetyvillage.ca/event/kids-approx-25-students-5/
CATEGORIES:Brantford Fire,Brantford Police,Grade 6
END:VEVENT
BEGIN:VEVENT
DTSTART;TZID=UTC:20240216T093000
DTEND;TZID=UTC:20240216T143000
DTSTAMP:20260421T023154
CREATED:20231102T135839Z
LAST-MODIFIED:20231102T135839Z
UID:11187-1708075800-1708093800@brantsafetyvillage.ca
SUMMARY:KIDS - Approx 22 students
DESCRIPTION:
URL:https://brantsafetyvillage.ca/event/kids-approx-22-students/
CATEGORIES:Brantford Fire,Brantford Police,Grade 6
END:VEVENT
BEGIN:VEVENT
DTSTART;TZID=UTC:20240228T093000
DTEND;TZID=UTC:20240228T143000
DTSTAMP:20260421T023154
CREATED:20231102T140102Z
LAST-MODIFIED:20231102T140102Z
UID:11193-1709112600-1709130600@brantsafetyvillage.ca
SUMMARY:KIDS - Approx 28 students
DESCRIPTION:
URL:https://brantsafetyvillage.ca/event/kids-approx-28-students-8/
CATEGORIES:Brantford Fire,Brantford Police,Grade 6
END:VEVENT
BEGIN:VEVENT
DTSTART;TZID=UTC:20240229T093000
DTEND;TZID=UTC:20240229T143000
DTSTAMP:20260421T023154
CREATED:20231102T140149Z
LAST-MODIFIED:20231102T140149Z
UID:11195-1709199000-1709217000@brantsafetyvillage.ca
SUMMARY:KIDS - Approx 26 students
DESCRIPTION:
URL:https://brantsafetyvillage.ca/event/kids-approx-26-students-2/
CATEGORIES:Brantford Fire,Brantford Police,Grade 6
END:VEVENT
BEGIN:VEVENT
DTSTART;TZID=UTC:20240306T093000
DTEND;TZID=UTC:20240306T143000
DTSTAMP:20260421T023154
CREATED:20231102T140247Z
LAST-MODIFIED:20231102T140247Z
UID:11197-1709717400-1709735400@brantsafetyvillage.ca
SUMMARY:KIDS - approx 26 students
DESCRIPTION:
URL:https://brantsafetyvillage.ca/event/kids-approx-26-students-3/
CATEGORIES:Brantford Fire,Brantford Police,Grade 6
END:VEVENT
BEGIN:VEVENT
DTSTART;TZID=UTC:20240307T093000
DTEND;TZID=UTC:20240307T143000
DTSTAMP:20260421T023154
CREATED:20231102T141403Z
LAST-MODIFIED:20231102T141403Z
UID:11199-1709803800-1709821800@brantsafetyvillage.ca
SUMMARY:KIDS - Approx 23 students
DESCRIPTION:
URL:https://brantsafetyvillage.ca/event/kids-approx-23-students-3/
CATEGORIES:Brantford Fire,Brantford Police,Grade 6
END:VEVENT
BEGIN:VEVENT
DTSTART;TZID=UTC:20240308T093000
DTEND;TZID=UTC:20240308T143000
DTSTAMP:20260421T023154
CREATED:20231102T141454Z
LAST-MODIFIED:20231102T141454Z
UID:11202-1709890200-1709908200@brantsafetyvillage.ca
SUMMARY:KIDS - Approx 24 students
DESCRIPTION:
URL:https://brantsafetyvillage.ca/event/kids-approx-24-students-2/
CATEGORIES:Brantford Fire,Brantford Police,Grade 6
END:VEVENT
BEGIN:VEVENT
DTSTART;TZID=UTC:20240320T093000
DTEND;TZID=UTC:20240320T143000
DTSTAMP:20260421T023154
CREATED:20231102T141603Z
LAST-MODIFIED:20231102T141603Z
UID:11204-1710927000-1710945000@brantsafetyvillage.ca
SUMMARY:KIDS - Approx 26 students
DESCRIPTION:
URL:https://brantsafetyvillage.ca/event/kids-approx-26-students-4/
CATEGORIES:Brantford Fire,Brantford Police,Grade 6
END:VEVENT
BEGIN:VEVENT
DTSTART;TZID=UTC:20240321T093000
DTEND;TZID=UTC:20240321T143000
DTSTAMP:20260421T023154
CREATED:20231102T141651Z
LAST-MODIFIED:20231102T141651Z
UID:11206-1711013400-1711031400@brantsafetyvillage.ca
SUMMARY:KIDS - Approx 21 students
DESCRIPTION:
URL:https://brantsafetyvillage.ca/event/kids-approx-21-students/
CATEGORIES:Brantford Fire,Brantford Police,Grade 6
END:VEVENT
BEGIN:VEVENT
DTSTART;TZID=UTC:20240322T093000
DTEND;TZID=UTC:20240322T143000
DTSTAMP:20260421T023154
CREATED:20231102T141919Z
LAST-MODIFIED:20231102T141919Z
UID:11210-1711099800-1711117800@brantsafetyvillage.ca
SUMMARY:KIDS - Approx 34 students
DESCRIPTION:
URL:https://brantsafetyvillage.ca/event/kids-approx-34-students-3/
CATEGORIES:Brantford Fire,Brantford Police,Grade 6
END:VEVENT
BEGIN:VEVENT
DTSTART;TZID=UTC:20240327T093000
DTEND;TZID=UTC:20240327T143000
DTSTAMP:20260421T023154
CREATED:20231102T141748Z
LAST-MODIFIED:20231102T141748Z
UID:11208-1711531800-1711549800@brantsafetyvillage.ca
SUMMARY:KIDS - Approx 34 students
DESCRIPTION:
URL:https://brantsafetyvillage.ca/event/kids-approx-34-students-2/
CATEGORIES:Brantford Fire,Brantford Police,Grade 6
END:VEVENT
BEGIN:VEVENT
DTSTART;TZID=UTC:20240328T090000
DTEND;TZID=UTC:20240328T143000
DTSTAMP:20260421T023154
CREATED:20231102T142003Z
LAST-MODIFIED:20231102T142003Z
UID:11212-1711616400-1711636200@brantsafetyvillage.ca
SUMMARY:KIDS - Approx 28 students
DESCRIPTION:
URL:https://brantsafetyvillage.ca/event/kids-approx-28-students-9/
CATEGORIES:Brantford Fire,Brantford Police,Grade 6
END:VEVENT
BEGIN:VEVENT
DTSTART;TZID=UTC:20240403T093000
DTEND;TZID=UTC:20240403T143000
DTSTAMP:20260421T023154
CREATED:20240327T144708Z
LAST-MODIFIED:20240327T144708Z
UID:11790-1712136600-1712154600@brantsafetyvillage.ca
SUMMARY:KIDS
DESCRIPTION:
URL:https://brantsafetyvillage.ca/event/kids-5/
CATEGORIES:Brantford Fire,Brantford Police,Grade 6
END:VEVENT
BEGIN:VEVENT
DTSTART;TZID=UTC:20240404T093000
DTEND;TZID=UTC:20240404T143000
DTSTAMP:20260421T023154
CREATED:20231102T135924Z
LAST-MODIFIED:20240207T154810Z
UID:11189-1712223000-1712241000@brantsafetyvillage.ca
SUMMARY:KIDS - Approx 29 students
DESCRIPTION:
URL:https://brantsafetyvillage.ca/event/kids-approx-29-students-3/
CATEGORIES:Brantford Fire,Brantford Police,Grade 6
END:VEVENT
BEGIN:VEVENT
DTSTART;TZID=UTC:20240405T093000
DTEND;TZID=UTC:20240405T143000
DTSTAMP:20260421T023154
CREATED:20231102T140016Z
LAST-MODIFIED:20240207T154945Z
UID:11191-1712309400-1712327400@brantsafetyvillage.ca
SUMMARY:KIDS - Approx 28 students
DESCRIPTION:
URL:https://brantsafetyvillage.ca/event/kids-approx-28-students-7/
CATEGORIES:Brantford Fire,Brantford Police,Grade 6
END:VEVENT
END:VCALENDAR