BEGIN:VCALENDAR
VERSION:2.0
PRODID:-//Brant Safety Village - ECPv6.15.20//NONSGML v1.0//EN
CALSCALE:GREGORIAN
METHOD:PUBLISH
X-ORIGINAL-URL:https://brantsafetyvillage.ca
X-WR-CALDESC:Events for Brant Safety Village
REFRESH-INTERVAL;VALUE=DURATION:PT1H
X-Robots-Tag:noindex
X-PUBLISHED-TTL:PT1H
BEGIN:VTIMEZONE
TZID:UTC
BEGIN:STANDARD
TZOFFSETFROM:+0000
TZOFFSETTO:+0000
TZNAME:UTC
DTSTART:20230101T000000
END:STANDARD
END:VTIMEZONE
BEGIN:VEVENT
DTSTART;TZID=UTC:20240605T123000
DTEND;TZID=UTC:20240605T140000
DTSTAMP:20260420T180335
CREATED:20240404T140150Z
LAST-MODIFIED:20240404T140150Z
UID:11893-1717590600-1717596000@brantsafetyvillage.ca
SUMMARY:Grade 4 Science of Fire
DESCRIPTION:
URL:https://brantsafetyvillage.ca/event/grade-4-science-of-fire-4/
CATEGORIES:Brantford Fire,Grade 4
END:VEVENT
BEGIN:VEVENT
DTSTART;TZID=UTC:20240606T123000
DTEND;TZID=UTC:20240606T140000
DTSTAMP:20260420T180335
CREATED:20240404T135801Z
LAST-MODIFIED:20240404T135801Z
UID:11891-1717677000-1717682400@brantsafetyvillage.ca
SUMMARY:Grade 4 Science of Fire - 28 students
DESCRIPTION:
URL:https://brantsafetyvillage.ca/event/grade-4-science-of-fire-28-students/
CATEGORIES:Brantford Fire,Grade 4
END:VEVENT
BEGIN:VEVENT
DTSTART;TZID=UTC:20240614T100000
DTEND;TZID=UTC:20240614T113000
DTSTAMP:20260420T180335
CREATED:20240410T171705Z
LAST-MODIFIED:20240410T171705Z
UID:12088-1718359200-1718364600@brantsafetyvillage.ca
SUMMARY:Grade 4 Science of Fire
DESCRIPTION:
URL:https://brantsafetyvillage.ca/event/grade-4-science-of-fire-2/
CATEGORIES:Brantford Fire,Grade 4
END:VEVENT
BEGIN:VEVENT
DTSTART;TZID=UTC:20240909T183000
DTEND;TZID=UTC:20240909T220000
DTSTAMP:20260420T180335
CREATED:20240827T195957Z
LAST-MODIFIED:20240827T195957Z
UID:12820-1725906600-1725919200@brantsafetyvillage.ca
SUMMARY:City Fire Meeting
DESCRIPTION:
URL:https://brantsafetyvillage.ca/event/city-fire-meeting/
CATEGORIES:Brantford Fire
END:VEVENT
BEGIN:VEVENT
DTSTART;TZID=UTC:20241002T150000
DTEND;TZID=UTC:20241002T170000
DTSTAMP:20260420T180335
CREATED:20240927T161835Z
LAST-MODIFIED:20240927T161835Z
UID:13453-1727881200-1727888400@brantsafetyvillage.ca
SUMMARY:County Fire/City Fire
DESCRIPTION:
URL:https://brantsafetyvillage.ca/event/county-fire-city-fire/
CATEGORIES:Brantford Fire,County of Brant Fire
END:VEVENT
BEGIN:VEVENT
DTSTART;TZID=UTC:20241004T100000
DTEND;TZID=UTC:20241004T113000
DTSTAMP:20260420T180335
CREATED:20240911T192134Z
LAST-MODIFIED:20241015T150453Z
UID:13236-1728036000-1728041400@brantsafetyvillage.ca
SUMMARY:BID 411 Grade 2 Fire Programme
DESCRIPTION:
URL:https://brantsafetyvillage.ca/event/grade-2-fire-programme-3/
CATEGORIES:Brantford Fire,Grade 2
END:VEVENT
BEGIN:VEVENT
DTSTART;TZID=UTC:20241009T123000
DTEND;TZID=UTC:20241009T140000
DTSTAMP:20260420T180335
CREATED:20240911T180054Z
LAST-MODIFIED:20241015T144955Z
UID:13214-1728477000-1728482400@brantsafetyvillage.ca
SUMMARY:BID 417 Grade 2 Fire Programme - Approx 30 students
DESCRIPTION:
URL:https://brantsafetyvillage.ca/event/grade-2-fire-programme-approx-30-students/
CATEGORIES:Brantford Fire,Grade 2
END:VEVENT
BEGIN:VEVENT
DTSTART;TZID=UTC:20241010T123000
DTEND;TZID=UTC:20241010T140000
DTSTAMP:20260420T180335
CREATED:20240917T153511Z
LAST-MODIFIED:20241015T144212Z
UID:13329-1728563400-1728568800@brantsafetyvillage.ca
SUMMARY:BID 415 Grade 2 Fire Program - PM - Approx 20 students
DESCRIPTION:
URL:https://brantsafetyvillage.ca/event/grade-2-fire-program-pm-approx-20-students/
CATEGORIES:Brantford Fire,Grade 2
END:VEVENT
BEGIN:VEVENT
DTSTART;TZID=UTC:20241011T123000
DTEND;TZID=UTC:20241011T140000
DTSTAMP:20260420T180335
CREATED:20241007T191418Z
LAST-MODIFIED:20241015T145225Z
UID:13516-1728649800-1728655200@brantsafetyvillage.ca
SUMMARY:BID 420 Grade 2 Fire - Approx 17 students
DESCRIPTION:
URL:https://brantsafetyvillage.ca/event/grade-2-fire-approx-17-students/
CATEGORIES:Brantford Fire,Grade 2
END:VEVENT
BEGIN:VEVENT
DTSTART;TZID=UTC:20241016T123000
DTEND;TZID=UTC:20241016T140000
DTSTAMP:20260420T180335
CREATED:20240905T190205Z
LAST-MODIFIED:20241016T170956Z
UID:13079-1729081800-1729087200@brantsafetyvillage.ca
SUMMARY:BID 400 Grade 2 Fire Program
DESCRIPTION:
URL:https://brantsafetyvillage.ca/event/grade-2-fire-program/
CATEGORIES:Brantford Fire,Grade 2
END:VEVENT
BEGIN:VEVENT
DTSTART;TZID=UTC:20241017T123000
DTEND;TZID=UTC:20241017T140000
DTSTAMP:20260420T180335
CREATED:20240906T132706Z
LAST-MODIFIED:20241024T145724Z
UID:13092-1729168200-1729173600@brantsafetyvillage.ca
SUMMARY:BID 395 Grade 2 Fire Program
DESCRIPTION:
URL:https://brantsafetyvillage.ca/event/grade-2-fire-program-2/
CATEGORIES:Brantford Fire,Grade 2
END:VEVENT
BEGIN:VEVENT
DTSTART;TZID=UTC:20241023T100000
DTEND;TZID=UTC:20241023T113000
DTSTAMP:20260420T180335
CREATED:20240912T135344Z
LAST-MODIFIED:20241024T155928Z
UID:13266-1729677600-1729683000@brantsafetyvillage.ca
SUMMARY:BID 430 Grade 2 Fire Program AM - Approx 18 students
DESCRIPTION:
URL:https://brantsafetyvillage.ca/event/grade-2-fire-program-am-approx-18-students/
CATEGORIES:Brantford Fire,Grade 2
END:VEVENT
BEGIN:VEVENT
DTSTART;TZID=UTC:20241023T123000
DTEND;TZID=UTC:20241023T140000
DTSTAMP:20260420T180335
CREATED:20240906T160429Z
LAST-MODIFIED:20241024T160137Z
UID:13111-1729686600-1729692000@brantsafetyvillage.ca
SUMMARY:BID 405 Grade 2 Fire Program
DESCRIPTION:
URL:https://brantsafetyvillage.ca/event/grade-2-fire-program-4/
CATEGORIES:Brantford Fire,Grade 2
END:VEVENT
BEGIN:VEVENT
DTSTART;TZID=UTC:20241024T100000
DTEND;TZID=UTC:20241024T113000
DTSTAMP:20260420T180335
CREATED:20240912T144342Z
LAST-MODIFIED:20241024T184712Z
UID:13277-1729764000-1729769400@brantsafetyvillage.ca
SUMMARY:BID 443 Grade 2 Fire Program - AM - Approx 30
DESCRIPTION:
URL:https://brantsafetyvillage.ca/event/grade-2-fire-program-am-approx-30/
CATEGORIES:Brantford Fire,Grade 2
END:VEVENT
BEGIN:VEVENT
DTSTART;TZID=UTC:20241024T123000
DTEND;TZID=UTC:20241024T140000
DTSTAMP:20260420T180335
CREATED:20240912T144544Z
LAST-MODIFIED:20241024T184615Z
UID:13281-1729773000-1729778400@brantsafetyvillage.ca
SUMMARY:BID 445 Grade 2 Fire Program - PM - Approx 30
DESCRIPTION:
URL:https://brantsafetyvillage.ca/event/grade-2-fire-program-pm-approx-30-2/
CATEGORIES:Brantford Fire,Grade 2
END:VEVENT
BEGIN:VEVENT
DTSTART;TZID=UTC:20241030T100000
DTEND;TZID=UTC:20241030T113000
DTSTAMP:20260420T180335
CREATED:20240911T173544Z
LAST-MODIFIED:20241029T151745Z
UID:13194-1730282400-1730287800@brantsafetyvillage.ca
SUMMARY:BID 437 Grade 2 - Fire Programme Approx 18 students
DESCRIPTION:
URL:https://brantsafetyvillage.ca/event/grade-2-fire-programme-approx-18-students/
CATEGORIES:Brantford Fire,Grade 2
END:VEVENT
BEGIN:VEVENT
DTSTART;TZID=UTC:20241106T123000
DTEND;TZID=UTC:20241106T140000
DTSTAMP:20260420T180335
CREATED:20240905T155701Z
LAST-MODIFIED:20241113T152543Z
UID:13070-1730896200-1730901600@brantsafetyvillage.ca
SUMMARY:BID 396 Grade 2 Fire Safety
DESCRIPTION:
URL:https://brantsafetyvillage.ca/event/grade-2-fire-safety/
CATEGORIES:Brantford Fire,Grade 2
END:VEVENT
BEGIN:VEVENT
DTSTART;TZID=UTC:20241107T100000
DTEND;TZID=UTC:20241107T113000
DTSTAMP:20260420T180335
CREATED:20240911T180339Z
LAST-MODIFIED:20241113T153131Z
UID:13218-1730973600-1730979000@brantsafetyvillage.ca
SUMMARY:BID 450 Grade 2 Fire Programme AM - Approx 30 Students
DESCRIPTION:
URL:https://brantsafetyvillage.ca/event/grade-2-fire-programme-approx-30-students-2/
CATEGORIES:Brantford Fire,Grade 2
END:VEVENT
BEGIN:VEVENT
DTSTART;TZID=UTC:20241107T123000
DTEND;TZID=UTC:20241107T140000
DTSTAMP:20260420T180335
CREATED:20240911T180546Z
LAST-MODIFIED:20241113T152832Z
UID:13222-1730982600-1730988000@brantsafetyvillage.ca
SUMMARY:BID 452 Grade 2 Fire PM- Approx 30 students
DESCRIPTION:
URL:https://brantsafetyvillage.ca/event/grade-2-fire-approx-30-students-3/
CATEGORIES:Brantford Fire,Grade 2
END:VEVENT
BEGIN:VEVENT
DTSTART;TZID=UTC:20241108T100000
DTEND;TZID=UTC:20241108T113000
DTSTAMP:20260420T180335
CREATED:20240912T154015Z
LAST-MODIFIED:20241113T153703Z
UID:13291-1731060000-1731065400@brantsafetyvillage.ca
SUMMARY:BID 402 Grade 2 Fire Program - AM - Approx 25
DESCRIPTION:
URL:https://brantsafetyvillage.ca/event/grade-2-fire-program-am-approx-25/
CATEGORIES:Brantford Fire,Grade 2
END:VEVENT
BEGIN:VEVENT
DTSTART;TZID=UTC:20241108T123000
DTEND;TZID=UTC:20241108T140000
DTSTAMP:20260420T180335
CREATED:20240912T142032Z
LAST-MODIFIED:20241113T153422Z
UID:13272-1731069000-1731074400@brantsafetyvillage.ca
SUMMARY:BID 454 Grade 2 Fire Program PM - Approx 30
DESCRIPTION:
URL:https://brantsafetyvillage.ca/event/grade-2-fire-program-pm-approx-30/
CATEGORIES:Brantford Fire,Grade 2
END:VEVENT
BEGIN:VEVENT
DTSTART;TZID=UTC:20241113T100000
DTEND;TZID=UTC:20241113T113000
DTSTAMP:20260420T180335
CREATED:20240912T144743Z
LAST-MODIFIED:20241113T154452Z
UID:13285-1731492000-1731497400@brantsafetyvillage.ca
SUMMARY:BID 441 Grade 2 Fire Program - AM - Approx 30
DESCRIPTION:
URL:https://brantsafetyvillage.ca/event/grade-2-fire-program-am-approx-30-2/
CATEGORIES:Brantford Fire,Grade 2
END:VEVENT
BEGIN:VEVENT
DTSTART;TZID=UTC:20241113T123000
DTEND;TZID=UTC:20241113T140000
DTSTAMP:20260420T180335
CREATED:20240912T144855Z
LAST-MODIFIED:20241113T154320Z
UID:13287-1731501000-1731506400@brantsafetyvillage.ca
SUMMARY:BID 439 Grade 2 Fire Program - PM - Approx 30
DESCRIPTION:
URL:https://brantsafetyvillage.ca/event/grade-2-fire-program-pm-approx-30-3/
CATEGORIES:Brantford Fire,Grade 2
END:VEVENT
BEGIN:VEVENT
DTSTART;TZID=UTC:20241114T100000
DTEND;TZID=UTC:20241114T113000
DTSTAMP:20260420T180335
CREATED:20240911T190942Z
LAST-MODIFIED:20241113T155059Z
UID:13228-1731578400-1731583800@brantsafetyvillage.ca
SUMMARY:BID 433 Grade 2 Fire Programme AM - approx 21 students
DESCRIPTION:
URL:https://brantsafetyvillage.ca/event/grade-2-fire-programme/
CATEGORIES:Brantford Fire,Grade 2
END:VEVENT
BEGIN:VEVENT
DTSTART;TZID=UTC:20241114T123000
DTEND;TZID=UTC:20241114T140000
DTSTAMP:20260420T180335
CREATED:20240911T191026Z
LAST-MODIFIED:20241113T154832Z
UID:13230-1731587400-1731592800@brantsafetyvillage.ca
SUMMARY:BID 432 Grade 2 Fire Programme PM - Approx 28 students
DESCRIPTION:
URL:https://brantsafetyvillage.ca/event/grade-2-fire-programme-2/
CATEGORIES:Brantford Fire,Grade 2
END:VEVENT
BEGIN:VEVENT
DTSTART;TZID=UTC:20241127T090000
DTEND;TZID=UTC:20241127T143000
DTSTAMP:20260420T180335
CREATED:20241120T160835Z
LAST-MODIFIED:20250108T154833Z
UID:13963-1732698000-1732717800@brantsafetyvillage.ca
SUMMARY:BID 475 K.I.D.S. (approx. 36 students)
DESCRIPTION:
URL:https://brantsafetyvillage.ca/event/k-i-d-s-approx-36-students-2/
CATEGORIES:Brantford Fire,Brantford Police,Grade 6
END:VEVENT
BEGIN:VEVENT
DTSTART;TZID=UTC:20241128T090000
DTEND;TZID=UTC:20241128T143000
DTSTAMP:20260420T180335
CREATED:20241120T160835Z
LAST-MODIFIED:20250108T155011Z
UID:13964-1732784400-1732804200@brantsafetyvillage.ca
SUMMARY:BID 476 K.I.D.S. (approx. 28 students)
DESCRIPTION:
URL:https://brantsafetyvillage.ca/event/k-i-d-s-approx-28-students-4/
CATEGORIES:Brantford Fire,Brantford Police,Grade 6
END:VEVENT
BEGIN:VEVENT
DTSTART;TZID=UTC:20241129T090000
DTEND;TZID=UTC:20241129T143000
DTSTAMP:20260420T180335
CREATED:20241120T160835Z
LAST-MODIFIED:20250108T155255Z
UID:13965-1732870800-1732890600@brantsafetyvillage.ca
SUMMARY:BID 477 K.I.D.S. ( approx. 13 students)
DESCRIPTION:
URL:https://brantsafetyvillage.ca/event/k-i-d-s-2-schools-approx-30-students/
CATEGORIES:Brantford Fire,Brantford Police,Grade 6
END:VEVENT
BEGIN:VEVENT
DTSTART;TZID=UTC:20241129T090000
DTEND;TZID=UTC:20241129T143000
DTSTAMP:20260420T180335
CREATED:20250108T155507Z
LAST-MODIFIED:20250108T155507Z
UID:14287-1732870800-1732890600@brantsafetyvillage.ca
SUMMARY:BID 520 K.I.D.S. (approx 17 students)
DESCRIPTION:
URL:https://brantsafetyvillage.ca/event/bid-520-k-i-d-s-approx-17-students/
CATEGORIES:Brantford Fire,Brantford Police
END:VEVENT
BEGIN:VEVENT
DTSTART;TZID=UTC:20241204T090000
DTEND;TZID=UTC:20241204T143000
DTSTAMP:20260420T180335
CREATED:20241120T160835Z
LAST-MODIFIED:20250108T155843Z
UID:13966-1733302800-1733322600@brantsafetyvillage.ca
SUMMARY:BID 478 K.I.D.S. (approx. 26 students)
DESCRIPTION:
URL:https://brantsafetyvillage.ca/event/k-i-d-s-approx-26-students-8/
CATEGORIES:Brantford Fire,Brantford Police,Grade 6
END:VEVENT
END:VCALENDAR