BEGIN:VCALENDAR
VERSION:2.0
PRODID:-//Brant Safety Village - ECPv6.15.20//NONSGML v1.0//EN
CALSCALE:GREGORIAN
METHOD:PUBLISH
X-WR-CALNAME:Brant Safety Village
X-ORIGINAL-URL:https://brantsafetyvillage.ca
X-WR-CALDESC:Events for Brant Safety Village
REFRESH-INTERVAL;VALUE=DURATION:PT1H
X-Robots-Tag:noindex
X-PUBLISHED-TTL:PT1H
BEGIN:VTIMEZONE
TZID:UTC
BEGIN:STANDARD
TZOFFSETFROM:+0000
TZOFFSETTO:+0000
TZNAME:UTC
DTSTART:20230101T000000
END:STANDARD
END:VTIMEZONE
BEGIN:VEVENT
DTSTART;TZID=UTC:20241114T100000
DTEND;TZID=UTC:20241114T113000
DTSTAMP:20260426T035518
CREATED:20240911T190810Z
LAST-MODIFIED:20241113T155206Z
UID:13224-1731578400-1731583800@brantsafetyvillage.ca
SUMMARY:BID 434 Grade 1 Personal Safety AM - approx 21 students
DESCRIPTION:
URL:https://brantsafetyvillage.ca/event/grade-1-personal-safety-10/
CATEGORIES:Brantford Police,Grade 1
END:VEVENT
BEGIN:VEVENT
DTSTART;TZID=UTC:20241114T123000
DTEND;TZID=UTC:20241114T140000
DTSTAMP:20260426T035518
CREATED:20240911T190857Z
LAST-MODIFIED:20241113T154947Z
UID:13226-1731587400-1731592800@brantsafetyvillage.ca
SUMMARY:BID 431 Grade 1 Personal Safety PM - Approx 28 students
DESCRIPTION:
URL:https://brantsafetyvillage.ca/event/grade-1-personal-safety-11/
CATEGORIES:Brantford Police,Grade 1
END:VEVENT
BEGIN:VEVENT
DTSTART;TZID=UTC:20241127T090000
DTEND;TZID=UTC:20241127T143000
DTSTAMP:20260426T035518
CREATED:20241120T160835Z
LAST-MODIFIED:20250108T154833Z
UID:13963-1732698000-1732717800@brantsafetyvillage.ca
SUMMARY:BID 475 K.I.D.S. (approx. 36 students)
DESCRIPTION:
URL:https://brantsafetyvillage.ca/event/k-i-d-s-approx-36-students-2/
CATEGORIES:Brantford Fire,Brantford Police,Grade 6
END:VEVENT
BEGIN:VEVENT
DTSTART;TZID=UTC:20241128T090000
DTEND;TZID=UTC:20241128T143000
DTSTAMP:20260426T035518
CREATED:20241120T160835Z
LAST-MODIFIED:20250108T155011Z
UID:13964-1732784400-1732804200@brantsafetyvillage.ca
SUMMARY:BID 476 K.I.D.S. (approx. 28 students)
DESCRIPTION:
URL:https://brantsafetyvillage.ca/event/k-i-d-s-approx-28-students-4/
CATEGORIES:Brantford Fire,Brantford Police,Grade 6
END:VEVENT
BEGIN:VEVENT
DTSTART;TZID=UTC:20241129T090000
DTEND;TZID=UTC:20241129T143000
DTSTAMP:20260426T035518
CREATED:20241120T160835Z
LAST-MODIFIED:20250108T155255Z
UID:13965-1732870800-1732890600@brantsafetyvillage.ca
SUMMARY:BID 477 K.I.D.S. ( approx. 13 students)
DESCRIPTION:
URL:https://brantsafetyvillage.ca/event/k-i-d-s-2-schools-approx-30-students/
CATEGORIES:Brantford Fire,Brantford Police,Grade 6
END:VEVENT
BEGIN:VEVENT
DTSTART;TZID=UTC:20241129T090000
DTEND;TZID=UTC:20241129T143000
DTSTAMP:20260426T035518
CREATED:20250108T155507Z
LAST-MODIFIED:20250108T155507Z
UID:14287-1732870800-1732890600@brantsafetyvillage.ca
SUMMARY:BID 520 K.I.D.S. (approx 17 students)
DESCRIPTION:
URL:https://brantsafetyvillage.ca/event/bid-520-k-i-d-s-approx-17-students/
CATEGORIES:Brantford Fire,Brantford Police
END:VEVENT
BEGIN:VEVENT
DTSTART;TZID=UTC:20241204T090000
DTEND;TZID=UTC:20241204T143000
DTSTAMP:20260426T035518
CREATED:20241120T160835Z
LAST-MODIFIED:20250108T155843Z
UID:13966-1733302800-1733322600@brantsafetyvillage.ca
SUMMARY:BID 478 K.I.D.S. (approx. 26 students)
DESCRIPTION:
URL:https://brantsafetyvillage.ca/event/k-i-d-s-approx-26-students-8/
CATEGORIES:Brantford Fire,Brantford Police,Grade 6
END:VEVENT
BEGIN:VEVENT
DTSTART;TZID=UTC:20241206T090000
DTEND;TZID=UTC:20241206T143000
DTSTAMP:20260426T035518
CREATED:20241120T160835Z
LAST-MODIFIED:20250108T155943Z
UID:13967-1733475600-1733495400@brantsafetyvillage.ca
SUMMARY:BID 479 K.I.D.S. (approx. 26 students)
DESCRIPTION:
URL:https://brantsafetyvillage.ca/event/k-i-d-s-approx-26-students-9/
CATEGORIES:Brantford Fire,Brantford Police,Grade 6
END:VEVENT
BEGIN:VEVENT
DTSTART;TZID=UTC:20241211T090000
DTEND;TZID=UTC:20241211T143000
DTSTAMP:20260426T035518
CREATED:20241120T160838Z
LAST-MODIFIED:20250108T163229Z
UID:13968-1733907600-1733927400@brantsafetyvillage.ca
SUMMARY:BID 480 K.I.D.S. (approx. 25 students)
DESCRIPTION:
URL:https://brantsafetyvillage.ca/event/k-i-d-s-approx-25-students-6/
CATEGORIES:Brantford Fire,Brantford Police,Grade 6
END:VEVENT
BEGIN:VEVENT
DTSTART;TZID=UTC:20241212T090000
DTEND;TZID=UTC:20241212T143000
DTSTAMP:20260426T035518
CREATED:20241120T160838Z
LAST-MODIFIED:20250108T180910Z
UID:13969-1733994000-1734013800@brantsafetyvillage.ca
SUMMARY:BID 481 K.I.D.S. (approx. 10 students)
DESCRIPTION:
URL:https://brantsafetyvillage.ca/event/k-i-d-s-2-schools-approx-25-students/
CATEGORIES:Brantford Fire,Brantford Police,Grade 6
END:VEVENT
BEGIN:VEVENT
DTSTART;TZID=UTC:20241212T093000
DTEND;TZID=UTC:20241212T140000
DTSTAMP:20260426T035518
CREATED:20250108T181040Z
LAST-MODIFIED:20250108T181040Z
UID:14345-1733995800-1734012000@brantsafetyvillage.ca
SUMMARY:BID 521 K.I.D.S. (approx 15 students)
DESCRIPTION:
URL:https://brantsafetyvillage.ca/event/bid-521-k-i-d-s-approx-15-students/
CATEGORIES:Brantford Fire,Brantford Police,Grade 6
END:VEVENT
BEGIN:VEVENT
DTSTART;TZID=UTC:20241217T080000
DTEND;TZID=UTC:20241217T170000
DTSTAMP:20260426T035518
CREATED:20240905T155234Z
LAST-MODIFIED:20240905T155234Z
UID:13068-1734422400-1734454800@brantsafetyvillage.ca
SUMMARY:No CITY Police Instructor
DESCRIPTION:
URL:https://brantsafetyvillage.ca/event/no-city-police-instructor-2/
CATEGORIES:Brantford Police
END:VEVENT
BEGIN:VEVENT
DTSTART;TZID=UTC:20241218T080000
DTEND;TZID=UTC:20241218T170000
DTSTAMP:20260426T035518
CREATED:20240905T154844Z
LAST-MODIFIED:20240905T154844Z
UID:13058-1734508800-1734541200@brantsafetyvillage.ca
SUMMARY:No Police Instructor
DESCRIPTION:
URL:https://brantsafetyvillage.ca/event/no-police-instructor-7/
CATEGORIES:Brantford Police
END:VEVENT
BEGIN:VEVENT
DTSTART;TZID=UTC:20241219T090000
DTEND;TZID=UTC:20241219T143000
DTSTAMP:20260426T035518
CREATED:20241120T160838Z
LAST-MODIFIED:20250108T175916Z
UID:13971-1734598800-1734618600@brantsafetyvillage.ca
SUMMARY:BID 483 K.I.D.S. (approx. 16 students)
DESCRIPTION:
URL:https://brantsafetyvillage.ca/event/k-i-d-s-2-schools-approx-32-students/
CATEGORIES:Brantford Fire,Brantford Police,Grade 6
END:VEVENT
BEGIN:VEVENT
DTSTART;TZID=UTC:20241219T093000
DTEND;TZID=UTC:20241219T140000
DTSTAMP:20260426T035518
CREATED:20250108T180026Z
LAST-MODIFIED:20250108T180026Z
UID:14342-1734600600-1734616800@brantsafetyvillage.ca
SUMMARY:BID 522 K.I.D.S. (approx 16 students)
DESCRIPTION:
URL:https://brantsafetyvillage.ca/event/bid-522-k-i-d-s-approx-16-students/
CATEGORIES:Brantford Fire,Brantford Police,Grade 6
END:VEVENT
BEGIN:VEVENT
DTSTART;TZID=UTC:20250107T123000
DTEND;TZID=UTC:20250107T140000
DTSTAMP:20260426T035518
CREATED:20241204T155217Z
LAST-MODIFIED:20250115T143446Z
UID:14136-1736253000-1736258400@brantsafetyvillage.ca
SUMMARY:BID 529 Grade 5 - Internet Safety - Approx 25 Students
DESCRIPTION:
URL:https://brantsafetyvillage.ca/event/grade-5-internet-safety-approx-25-students-3/
CATEGORIES:Brantford Police,Grade 5
END:VEVENT
BEGIN:VEVENT
DTSTART;TZID=UTC:20250108T090000
DTEND;TZID=UTC:20250108T143000
DTSTAMP:20260426T035518
CREATED:20241120T160838Z
LAST-MODIFIED:20250109T134355Z
UID:13972-1736326800-1736346600@brantsafetyvillage.ca
SUMMARY:Cancelled - BID 484 K.I.D.S. (approx. 18 students)
DESCRIPTION:
URL:https://brantsafetyvillage.ca/event/k-i-d-s-approx-18-students/
CATEGORIES:Brantford Fire,Brantford Police,Grade 6
END:VEVENT
BEGIN:VEVENT
DTSTART;TZID=UTC:20250109T090000
DTEND;TZID=UTC:20250109T143000
DTSTAMP:20260426T035518
CREATED:20241120T160839Z
LAST-MODIFIED:20250108T163423Z
UID:13973-1736413200-1736433000@brantsafetyvillage.ca
SUMMARY:BID 485 K.I.D.S. (approx. 35 students)
DESCRIPTION:
URL:https://brantsafetyvillage.ca/event/k-i-d-s-approx-35-students/
CATEGORIES:Brantford Fire,Brantford Police,Grade 6
END:VEVENT
BEGIN:VEVENT
DTSTART;TZID=UTC:20250110T090000
DTEND;TZID=UTC:20250110T143000
DTSTAMP:20260426T035518
CREATED:20241120T160839Z
LAST-MODIFIED:20250108T163537Z
UID:13974-1736499600-1736519400@brantsafetyvillage.ca
SUMMARY:BID 486 K.I.D.S. (approx. 17 students)
DESCRIPTION:
URL:https://brantsafetyvillage.ca/event/k-i-d-s-approx-34-students/
CATEGORIES:Brantford Fire,Brantford Police,Grade 6
END:VEVENT
BEGIN:VEVENT
DTSTART;TZID=UTC:20250110T093000
DTEND;TZID=UTC:20250110T140000
DTSTAMP:20260426T035518
CREATED:20250108T163704Z
LAST-MODIFIED:20250108T163704Z
UID:14295-1736501400-1736517600@brantsafetyvillage.ca
SUMMARY:BID 523 K.I.D.S. (approx 17 students)
DESCRIPTION:
URL:https://brantsafetyvillage.ca/event/bid-523-k-i-d-s-approx-17-students/
CATEGORIES:Brantford Fire,Brantford Police,Grade 6
END:VEVENT
BEGIN:VEVENT
DTSTART;TZID=UTC:20250115T090000
DTEND;TZID=UTC:20250115T143000
DTSTAMP:20260426T035518
CREATED:20241120T160839Z
LAST-MODIFIED:20250108T163912Z
UID:13975-1736931600-1736951400@brantsafetyvillage.ca
SUMMARY:BID 487 K.I.D.S. (approx. 25 students)
DESCRIPTION:
URL:https://brantsafetyvillage.ca/event/k-i-d-s-approx-25-students-7/
CATEGORIES:Brantford Fire,Brantford Police,Grade 6
END:VEVENT
BEGIN:VEVENT
DTSTART;TZID=UTC:20250116T090000
DTEND;TZID=UTC:20250116T143000
DTSTAMP:20260426T035518
CREATED:20241120T160840Z
LAST-MODIFIED:20250108T164003Z
UID:13976-1737018000-1737037800@brantsafetyvillage.ca
SUMMARY:BID 488 K.I.D.S. (approx. 25 students)
DESCRIPTION:
URL:https://brantsafetyvillage.ca/event/k-i-d-s-approx-25-students-8/
CATEGORIES:Brantford Fire,Brantford Police,Grade 6
END:VEVENT
BEGIN:VEVENT
DTSTART;TZID=UTC:20250117T090000
DTEND;TZID=UTC:20250117T143000
DTSTAMP:20260426T035518
CREATED:20241120T160840Z
LAST-MODIFIED:20250108T164049Z
UID:13977-1737104400-1737124200@brantsafetyvillage.ca
SUMMARY:BID 489 K.I.D.S. (approx. 16 students)
DESCRIPTION:
URL:https://brantsafetyvillage.ca/event/k-i-d-s-approx-16-students/
CATEGORIES:Brantford Fire,Brantford Police,Grade 6
END:VEVENT
BEGIN:VEVENT
DTSTART;TZID=UTC:20250122T090000
DTEND;TZID=UTC:20250122T143000
DTSTAMP:20260426T035518
CREATED:20241120T160854Z
LAST-MODIFIED:20250108T164805Z
UID:13978-1737536400-1737556200@brantsafetyvillage.ca
SUMMARY:BID 490 K.I.D.S. (approx. 23 students)
DESCRIPTION:
URL:https://brantsafetyvillage.ca/event/k-i-d-s-approx-23-students-4/
CATEGORIES:Brantford Fire,Brantford Police,Grade 6
END:VEVENT
BEGIN:VEVENT
DTSTART;TZID=UTC:20250123T090000
DTEND;TZID=UTC:20250123T143000
DTSTAMP:20260426T035518
CREATED:20241120T160854Z
LAST-MODIFIED:20250108T164911Z
UID:13979-1737622800-1737642600@brantsafetyvillage.ca
SUMMARY:BID 491 K.I.D.S. (approx. 23 students)
DESCRIPTION:
URL:https://brantsafetyvillage.ca/event/k-i-d-s-approx-23-students-5/
CATEGORIES:Brantford Fire,Brantford Police,Grade 6
END:VEVENT
BEGIN:VEVENT
DTSTART;TZID=UTC:20250124T090000
DTEND;TZID=UTC:20250124T143000
DTSTAMP:20260426T035518
CREATED:20241120T160854Z
LAST-MODIFIED:20250108T164956Z
UID:13980-1737709200-1737729000@brantsafetyvillage.ca
SUMMARY:BID 492 K.I.D.S. (approx. 27 students)
DESCRIPTION:
URL:https://brantsafetyvillage.ca/event/k-i-d-s-approx-27-students-5/
CATEGORIES:Brantford Fire,Brantford Police,Grade 6
END:VEVENT
BEGIN:VEVENT
DTSTART;TZID=UTC:20250129T090000
DTEND;TZID=UTC:20250129T143000
DTSTAMP:20260426T035518
CREATED:20241120T160855Z
LAST-MODIFIED:20250108T165058Z
UID:13981-1738141200-1738161000@brantsafetyvillage.ca
SUMMARY:BID 493 K.I.D.S. (approx. 29 students)
DESCRIPTION:
URL:https://brantsafetyvillage.ca/event/k-i-d-s-approx-29-students-2/
CATEGORIES:Brantford Fire,Brantford Police,Grade 6
END:VEVENT
BEGIN:VEVENT
DTSTART;TZID=UTC:20250130T090000
DTEND;TZID=UTC:20250130T143000
DTSTAMP:20260426T035518
CREATED:20241120T160855Z
LAST-MODIFIED:20250108T165209Z
UID:13982-1738227600-1738247400@brantsafetyvillage.ca
SUMMARY:BID 494 K.I.D.S. (approx. 15 students)
DESCRIPTION:
URL:https://brantsafetyvillage.ca/event/k-i-d-s-2-schools-approx-29-students/
CATEGORIES:Brantford Fire,Brantford Police,Grade 6
END:VEVENT
BEGIN:VEVENT
DTSTART;TZID=UTC:20250130T093000
DTEND;TZID=UTC:20250130T140000
DTSTAMP:20260426T035518
CREATED:20250108T165311Z
LAST-MODIFIED:20250108T165311Z
UID:14306-1738229400-1738245600@brantsafetyvillage.ca
SUMMARY:BID 524 K.I.D.S. (approx 14 students)
DESCRIPTION:
URL:https://brantsafetyvillage.ca/event/bid-524-k-i-d-s-approx-14-students/
CATEGORIES:Brantford Fire,Brantford Police,Grade 6
END:VEVENT
BEGIN:VEVENT
DTSTART;TZID=UTC:20250131T090000
DTEND;TZID=UTC:20250131T143000
DTSTAMP:20260426T035518
CREATED:20241120T160909Z
LAST-MODIFIED:20250108T172137Z
UID:13983-1738314000-1738333800@brantsafetyvillage.ca
SUMMARY:BID 495 K.I.D.S. (approx. 30 students)
DESCRIPTION:
URL:https://brantsafetyvillage.ca/event/k-i-d-s-approx-30-students-3/
CATEGORIES:Brantford Fire,Brantford Police,Grade 6
END:VEVENT
END:VCALENDAR