BEGIN:VCALENDAR
VERSION:2.0
PRODID:-//Brant Safety Village - ECPv6.15.20//NONSGML v1.0//EN
CALSCALE:GREGORIAN
METHOD:PUBLISH
X-WR-CALNAME:Brant Safety Village
X-ORIGINAL-URL:https://brantsafetyvillage.ca
X-WR-CALDESC:Events for Brant Safety Village
REFRESH-INTERVAL;VALUE=DURATION:PT1H
X-Robots-Tag:noindex
X-PUBLISHED-TTL:PT1H
BEGIN:VTIMEZONE
TZID:UTC
BEGIN:STANDARD
TZOFFSETFROM:+0000
TZOFFSETTO:+0000
TZNAME:UTC
DTSTART:20240101T000000
END:STANDARD
END:VTIMEZONE
BEGIN:VEVENT
DTSTART;VALUE=DATE:20250422
DTEND;VALUE=DATE:20250423
DTSTAMP:20260426T035641
CREATED:20250320T135757Z
LAST-MODIFIED:20250320T135757Z
UID:14648-1745280000-1745366399@brantsafetyvillage.ca
SUMMARY:Painting The Village
DESCRIPTION:
URL:https://brantsafetyvillage.ca/event/painting-the-village/
CATEGORIES:Brantford Police,Event
END:VEVENT
BEGIN:VEVENT
DTSTART;TZID=UTC:20250423T100000
DTEND;TZID=UTC:20250423T113000
DTSTAMP:20260426T035641
CREATED:20250124T153716Z
LAST-MODIFIED:20250205T174555Z
UID:14487-1745402400-1745407800@brantsafetyvillage.ca
SUMMARY:BID 549 Kindergarten AM- Approx. 36 students
DESCRIPTION:
URL:https://brantsafetyvillage.ca/event/bid-549-kindergarten-am-approx-30-students/
CATEGORIES:Brantford Fire,Brantford Police,Kindergarten
END:VEVENT
BEGIN:VEVENT
DTSTART;TZID=UTC:20250423T123000
DTEND;TZID=UTC:20250423T140000
DTSTAMP:20260426T035641
CREATED:20250407T191551Z
LAST-MODIFIED:20250407T191551Z
UID:14709-1745411400-1745416800@brantsafetyvillage.ca
SUMMARY:BID 577 Kindergarten Program PM - Approx. 52 Students
DESCRIPTION:
URL:https://brantsafetyvillage.ca/event/bid-577-kindergarten-program-pm-approx-52-students/
CATEGORIES:Brantford Fire,Brantford Police,Kindergarten
END:VEVENT
BEGIN:VEVENT
DTSTART;TZID=UTC:20250424T100000
DTEND;TZID=UTC:20250424T113000
DTSTAMP:20260426T035641
CREATED:20241106T175527Z
LAST-MODIFIED:20250110T145954Z
UID:13905-1745488800-1745494200@brantsafetyvillage.ca
SUMMARY:BID 465 Kindergarten AM - Approx 42 students
DESCRIPTION:
URL:https://brantsafetyvillage.ca/event/bid-465-kindergarten-am-approx-23-students/
CATEGORIES:Brantford Fire,Brantford Police,Kindergarten
END:VEVENT
BEGIN:VEVENT
DTSTART;TZID=UTC:20250425T100000
DTEND;TZID=UTC:20250425T113000
DTSTAMP:20260426T035641
CREATED:20241106T174958Z
LAST-MODIFIED:20250110T150142Z
UID:13897-1745575200-1745580600@brantsafetyvillage.ca
SUMMARY:BID 461 Kindergarten AM - Approx 44 students
DESCRIPTION:
URL:https://brantsafetyvillage.ca/event/bid-461-kindergarten-am-approx-27-students/
CATEGORIES:Brantford Fire,Brantford Police,Kindergarten
END:VEVENT
BEGIN:VEVENT
DTSTART;TZID=UTC:20250425T123000
DTEND;TZID=UTC:20250425T140000
DTSTAMP:20260426T035641
CREATED:20241211T180509Z
LAST-MODIFIED:20250124T202343Z
UID:14228-1745584200-1745589600@brantsafetyvillage.ca
SUMMARY:BID 550 Kindergarten PM - Approx. 46 students
DESCRIPTION:
URL:https://brantsafetyvillage.ca/event/bid-476-kindergarten-am-approx-23-students/
CATEGORIES:Brantford Fire,Brantford Police,Kindergarten
END:VEVENT
BEGIN:VEVENT
DTSTART;TZID=UTC:20250430T100000
DTEND;TZID=UTC:20250430T113000
DTSTAMP:20260426T035642
CREATED:20250407T180506Z
LAST-MODIFIED:20250407T180506Z
UID:14707-1746007200-1746012600@brantsafetyvillage.ca
SUMMARY:BID 575 Modified program - Approx. 20 Students
DESCRIPTION:
URL:https://brantsafetyvillage.ca/event/bid-575-modified-program-approx-20-students/
CATEGORIES:Brantford Police,Grade 6
END:VEVENT
BEGIN:VEVENT
DTSTART;TZID=UTC:20250430T123000
DTEND;TZID=UTC:20250430T140000
DTSTAMP:20260426T035642
CREATED:20250205T210126Z
LAST-MODIFIED:20250205T210317Z
UID:14560-1746016200-1746021600@brantsafetyvillage.ca
SUMMARY:BID 559 & 560 Kindergarten PM - Approx. 36 Students
DESCRIPTION:
URL:https://brantsafetyvillage.ca/event/bid-559-560-kindergarten-pm-approx-36/
CATEGORIES:Brantford Fire,Brantford Police,Kindergarten
END:VEVENT
BEGIN:VEVENT
DTSTART;TZID=UTC:20250501T100000
DTEND;TZID=UTC:20250501T113000
DTSTAMP:20260426T035642
CREATED:20250224T201153Z
LAST-MODIFIED:20250224T201153Z
UID:14592-1746093600-1746099000@brantsafetyvillage.ca
SUMMARY:BID 565 Kindergarten Program - Approx. 55 Students
DESCRIPTION:
URL:https://brantsafetyvillage.ca/event/bid-565-kindergarten-program-approx-55-students/
CATEGORIES:Brantford Fire,Brantford Police,Kindergarten
END:VEVENT
BEGIN:VEVENT
DTSTART;TZID=UTC:20250501T123000
DTEND;TZID=UTC:20250501T140000
DTSTAMP:20260426T035642
CREATED:20250402T184249Z
LAST-MODIFIED:20250402T184249Z
UID:14698-1746102600-1746108000@brantsafetyvillage.ca
SUMMARY:BID 573 Kindergarten PM - Approx 60 students
DESCRIPTION:
URL:https://brantsafetyvillage.ca/event/bid-573-kindergarten-pm-approx-60-students/
CATEGORIES:Brantford Fire,Brantford Police,Kindergarten
END:VEVENT
BEGIN:VEVENT
DTSTART;TZID=UTC:20250505T100000
DTEND;TZID=UTC:20250505T113000
DTSTAMP:20260426T035642
CREATED:20250115T163236Z
LAST-MODIFIED:20250317T191143Z
UID:14389-1746439200-1746444600@brantsafetyvillage.ca
SUMMARY:BID 538 Grade 3 Bike Safety - Approx 26 students
DESCRIPTION:
URL:https://brantsafetyvillage.ca/event/grade-3-bike-safety-approx-26-students-2/
CATEGORIES:Brantford Police,Grade 3
END:VEVENT
BEGIN:VEVENT
DTSTART;VALUE=DATE:20250506
DTEND;VALUE=DATE:20250507
DTSTAMP:20260426T035642
CREATED:20250429T134358Z
LAST-MODIFIED:20250429T134358Z
UID:14762-1746489600-1746575999@brantsafetyvillage.ca
SUMMARY:Painting the Village
DESCRIPTION:
URL:https://brantsafetyvillage.ca/event/painting-the-village-2/
CATEGORIES:Brantford Police,CVS Staff,Event
END:VEVENT
BEGIN:VEVENT
DTSTART;TZID=UTC:20250507T123000
DTEND;TZID=UTC:20250507T140000
DTSTAMP:20260426T035642
CREATED:20250115T163626Z
LAST-MODIFIED:20250115T184232Z
UID:14394-1746621000-1746626400@brantsafetyvillage.ca
SUMMARY:BID 540 Grade 3 Bike Safety PM - Approx 21 students
DESCRIPTION:
URL:https://brantsafetyvillage.ca/event/grade-3-bike-safety-approx-21-students/
CATEGORIES:Brantford Police,Grade 3
END:VEVENT
BEGIN:VEVENT
DTSTART;TZID=UTC:20250508T123000
DTEND;TZID=UTC:20250508T140000
DTSTAMP:20260426T035642
CREATED:20241106T174536Z
LAST-MODIFIED:20250225T180147Z
UID:13891-1746707400-1746712800@brantsafetyvillage.ca
SUMMARY:BID 458 Gr 3 Bike Programme PM Approx 30 students
DESCRIPTION:
URL:https://brantsafetyvillage.ca/event/bid-458-gr-3-bike-programme-pm-approx-30-students/
CATEGORIES:Brantford Police,Grade 3
END:VEVENT
BEGIN:VEVENT
DTSTART;VALUE=DATE:20250509
DTEND;VALUE=DATE:20250510
DTSTAMP:20260426T035642
CREATED:20250224T201901Z
LAST-MODIFIED:20250225T180232Z
UID:14598-1746748800-1746835199@brantsafetyvillage.ca
SUMMARY:City Police instructor unavailable
DESCRIPTION:
URL:https://brantsafetyvillage.ca/event/city-police-instructor-unavailable-4/
CATEGORIES:Brantford Police,Event Preparation
END:VEVENT
BEGIN:VEVENT
DTSTART;TZID=UTC:20250510T090000
DTEND;TZID=UTC:20250510T143000
DTSTAMP:20260426T035642
CREATED:20250224T200856Z
LAST-MODIFIED:20250224T200856Z
UID:14589-1746867600-1746887400@brantsafetyvillage.ca
SUMMARY:Police Family Fun Day
DESCRIPTION:
URL:https://brantsafetyvillage.ca/event/police-family-fun-day/
CATEGORIES:Brantford Police,Event
END:VEVENT
BEGIN:VEVENT
DTSTART;TZID=UTC:20250514T100000
DTEND;TZID=UTC:20250514T113000
DTSTAMP:20260426T035642
CREATED:20250129T154610Z
LAST-MODIFIED:20250129T180242Z
UID:14519-1747216800-1747222200@brantsafetyvillage.ca
SUMMARY:BID 552 Kindergarten AM - Approx 51 students
DESCRIPTION:
URL:https://brantsafetyvillage.ca/event/kindergarten-am-approx-51-students/
CATEGORIES:Brantford Fire,Brantford Police,Kindergarten
END:VEVENT
BEGIN:VEVENT
DTSTART;TZID=UTC:20250514T123000
DTEND;TZID=UTC:20250514T140000
DTSTAMP:20260426T035642
CREATED:20250129T154728Z
LAST-MODIFIED:20250129T180218Z
UID:14521-1747225800-1747231200@brantsafetyvillage.ca
SUMMARY:BID 551 Kindergarten  PM - Approx 55 students
DESCRIPTION:
URL:https://brantsafetyvillage.ca/event/kindergarten-pm-approx-55-students/
CATEGORIES:Brantford Fire,Brantford Police,Kindergarten
END:VEVENT
BEGIN:VEVENT
DTSTART;VALUE=DATE:20250515
DTEND;VALUE=DATE:20250516
DTSTAMP:20260426T035642
CREATED:20250117T195236Z
LAST-MODIFIED:20250117T195236Z
UID:14445-1747267200-1747353599@brantsafetyvillage.ca
SUMMARY:City Police instructor unavailable
DESCRIPTION:
URL:https://brantsafetyvillage.ca/event/city-police-instructor-unavailable/
CATEGORIES:Brantford Police
END:VEVENT
BEGIN:VEVENT
DTSTART;TZID=UTC:20250516T100000
DTEND;TZID=UTC:20250516T113000
DTSTAMP:20260426T035642
CREATED:20240906T141412Z
LAST-MODIFIED:20241106T181053Z
UID:13095-1747389600-1747395000@brantsafetyvillage.ca
SUMMARY:BID 398 Kindergarten AM- Approx 50 students
DESCRIPTION:
URL:https://brantsafetyvillage.ca/event/kindergarten-approx-50-students-3/
CATEGORIES:Brantford Fire,Brantford Police,Kindergarten
END:VEVENT
BEGIN:VEVENT
DTSTART;TZID=UTC:20250516T123000
DTEND;TZID=UTC:20250516T140000
DTSTAMP:20260426T035642
CREATED:20240906T141900Z
LAST-MODIFIED:20241106T180907Z
UID:13101-1747398600-1747404000@brantsafetyvillage.ca
SUMMARY:BID 399 Kindergarten PM - Approx 50 students
DESCRIPTION:
URL:https://brantsafetyvillage.ca/event/kindergarten-approx-50-students-6/
CATEGORIES:Brantford Fire,Brantford Police,Kindergarten
END:VEVENT
BEGIN:VEVENT
DTSTART;TZID=UTC:20250521T100000
DTEND;TZID=UTC:20250521T113000
DTSTAMP:20260426T035642
CREATED:20250115T163853Z
LAST-MODIFIED:20250326T174821Z
UID:14398-1747821600-1747827000@brantsafetyvillage.ca
SUMMARY:BID 542 Grade 3 Bike Safety AM - Approx 30 students
DESCRIPTION:
URL:https://brantsafetyvillage.ca/event/grade-3-bike-safety-approx-30-students-4/
CATEGORIES:Brantford Police,Grade 3
END:VEVENT
BEGIN:VEVENT
DTSTART;VALUE=DATE:20250522
DTEND;VALUE=DATE:20250523
DTSTAMP:20260426T035642
CREATED:20250117T195319Z
LAST-MODIFIED:20250117T195319Z
UID:14447-1747872000-1747958399@brantsafetyvillage.ca
SUMMARY:City Police instructor unavailable
DESCRIPTION:
URL:https://brantsafetyvillage.ca/event/city-police-instructor-unavailable-2/
CATEGORIES:Brantford Police
END:VEVENT
BEGIN:VEVENT
DTSTART;TZID=UTC:20250528T100000
DTEND;TZID=UTC:20250528T113000
DTSTAMP:20260426T035642
CREATED:20250407T201147Z
LAST-MODIFIED:20250602T144222Z
UID:14713-1748426400-1748431800@brantsafetyvillage.ca
SUMMARY:CANCELLED BID 576 Modified Program - Approx. 29
DESCRIPTION:
URL:https://brantsafetyvillage.ca/event/bid-576-modified-program-approx-29/
CATEGORIES:Brantford Police,Grade 6
END:VEVENT
BEGIN:VEVENT
DTSTART;TZID=UTC:20250528T123000
DTEND;TZID=UTC:20250528T140000
DTSTAMP:20260426T035642
CREATED:20250320T140155Z
LAST-MODIFIED:20250320T140155Z
UID:14650-1748435400-1748440800@brantsafetyvillage.ca
SUMMARY:BID 568 Kindergarten PM (approx. 25 students)
DESCRIPTION:
URL:https://brantsafetyvillage.ca/event/bid-568-kindergarten-pm-approx-25-students/
CATEGORIES:Brantford Fire,Brantford Police,Kindergarten
END:VEVENT
BEGIN:VEVENT
DTSTART;TZID=UTC:20250529T100000
DTEND;TZID=UTC:20250529T113000
DTSTAMP:20260426T035642
CREATED:20250305T161340Z
LAST-MODIFIED:20250305T163820Z
UID:14622-1748512800-1748518200@brantsafetyvillage.ca
SUMMARY:BID 567 Kindergarten - AM - approx 54 students
DESCRIPTION:
URL:https://brantsafetyvillage.ca/event/kindergarten-am-approx-54-students/
CATEGORIES:Brantford Fire,Brantford Police,Kindergarten
END:VEVENT
BEGIN:VEVENT
DTSTART;TZID=UTC:20250529T123000
DTEND;TZID=UTC:20250529T140000
DTSTAMP:20260426T035642
CREATED:20250514T184459Z
LAST-MODIFIED:20250514T184831Z
UID:14909-1748521800-1748527200@brantsafetyvillage.ca
SUMMARY:BID 584 Grade 3 Bike Program - PM - approx 22 students
DESCRIPTION:
URL:https://brantsafetyvillage.ca/event/grade-3-bike-program-pm-approx-22-students/
CATEGORIES:Brantford Police,Grade 3
END:VEVENT
BEGIN:VEVENT
DTSTART;TZID=UTC:20250604T100000
DTEND;TZID=UTC:20250604T113000
DTSTAMP:20260426T035642
CREATED:20250507T182654Z
LAST-MODIFIED:20250507T182654Z
UID:14897-1749031200-1749036600@brantsafetyvillage.ca
SUMMARY:Grade 3 - Bike Safety am - Approx 16 students
DESCRIPTION:
URL:https://brantsafetyvillage.ca/event/grade-3-bike-safety-am-approx-16-students/
CATEGORIES:Brantford Police,Grade 3
END:VEVENT
BEGIN:VEVENT
DTSTART;TZID=UTC:20250605T123000
DTEND;TZID=UTC:20250605T140000
DTSTAMP:20260426T035642
CREATED:20250424T165533Z
LAST-MODIFIED:20250424T165646Z
UID:14756-1749126600-1749132000@brantsafetyvillage.ca
SUMMARY:BID 582 Grade 3 Bike Safety PM - Approx. 30 students
DESCRIPTION:
URL:https://brantsafetyvillage.ca/event/bid-582-grade-3-bike-safety-pm-approx-30-students/
CATEGORIES:Brantford Police
END:VEVENT
BEGIN:VEVENT
DTSTART;TZID=UTC:20250611T100000
DTEND;TZID=UTC:20250611T113000
DTSTAMP:20260426T035642
CREATED:20250115T143808Z
LAST-MODIFIED:20250115T184655Z
UID:14375-1749636000-1749641400@brantsafetyvillage.ca
SUMMARY:BID 531 Grade 3 Bike Safety AM - Approx 25 students
DESCRIPTION:
URL:https://brantsafetyvillage.ca/event/grade-3-bike-safety-approx-25-students-2/
CATEGORIES:Brantford Police,Grade 3
END:VEVENT
END:VCALENDAR