BEGIN:VCALENDAR
VERSION:2.0
PRODID:-//Brant Safety Village - ECPv6.15.20//NONSGML v1.0//EN
CALSCALE:GREGORIAN
METHOD:PUBLISH
X-ORIGINAL-URL:https://brantsafetyvillage.ca
X-WR-CALDESC:Events for Brant Safety Village
REFRESH-INTERVAL;VALUE=DURATION:PT1H
X-Robots-Tag:noindex
X-PUBLISHED-TTL:PT1H
BEGIN:VTIMEZONE
TZID:UTC
BEGIN:STANDARD
TZOFFSETFROM:+0000
TZOFFSETTO:+0000
TZNAME:UTC
DTSTART:20240101T000000
END:STANDARD
END:VTIMEZONE
BEGIN:VEVENT
DTSTART;TZID=UTC:20250612T100000
DTEND;TZID=UTC:20250612T113000
DTSTAMP:20260426T013417
CREATED:20250115T144228Z
LAST-MODIFIED:20250115T184845Z
UID:14381-1749722400-1749727800@brantsafetyvillage.ca
SUMMARY:BID 534 Grade 3 Bike Safety AM  - Approx 25 students
DESCRIPTION:
URL:https://brantsafetyvillage.ca/event/grade-3-bike-safety-approx-25-students-4/
CATEGORIES:Brantford Police,Grade 3
END:VEVENT
BEGIN:VEVENT
DTSTART;TZID=UTC:20250612T123000
DTEND;TZID=UTC:20250612T140000
DTSTAMP:20260426T013417
CREATED:20250115T145026Z
LAST-MODIFIED:20250115T184942Z
UID:14385-1749731400-1749736800@brantsafetyvillage.ca
SUMMARY:BID 536 Grade 3 Bike Safety PM - Approx 25 students
DESCRIPTION:
URL:https://brantsafetyvillage.ca/event/grade-3-bike-safety-approx-25-students-6/
CATEGORIES:Brantford Police,Grade 3
END:VEVENT
BEGIN:VEVENT
DTSTART;TZID=UTC:20250618T123000
DTEND;TZID=UTC:20250618T140000
DTSTAMP:20260426T013417
CREATED:20250129T191945Z
LAST-MODIFIED:20250321T145041Z
UID:14529-1750249800-1750255200@brantsafetyvillage.ca
SUMMARY:BID 557 Grade 3 Bike Program PM-Approx. 12 students
DESCRIPTION:
URL:https://brantsafetyvillage.ca/event/grade-3-bike-program-approx-12-students/
CATEGORIES:Brantford Police,Grade 3
END:VEVENT
BEGIN:VEVENT
DTSTART;TZID=UTC:20250620T100000
DTEND;TZID=UTC:20250620T113000
DTSTAMP:20260426T013417
CREATED:20240802T182437Z
LAST-MODIFIED:20250527T161308Z
UID:12517-1750413600-1750419000@brantsafetyvillage.ca
SUMMARY:BID 586 Grade 3 Bike Safety AM - (Approx 14 students)
DESCRIPTION:
URL:https://brantsafetyvillage.ca/event/grade-3-bike-safety-approx-15-students/
CATEGORIES:Brantford Police,Grade 3
END:VEVENT
BEGIN:VEVENT
DTSTART;TZID=UTC:20250625T080000
DTEND;TZID=UTC:20250625T170000
DTSTAMP:20260426T013417
CREATED:20250501T144704Z
LAST-MODIFIED:20250501T144923Z
UID:14774-1750838400-1750870800@brantsafetyvillage.ca
SUMMARY:No City Police Instructor
DESCRIPTION:
URL:https://brantsafetyvillage.ca/event/no-police-instructor/
CATEGORIES:Brantford Police
END:VEVENT
BEGIN:VEVENT
DTSTART;TZID=UTC:20250626T080000
DTEND;TZID=UTC:20250626T170000
DTSTAMP:20260426T013417
CREATED:20250501T144738Z
LAST-MODIFIED:20250501T144738Z
UID:14776-1750924800-1750957200@brantsafetyvillage.ca
SUMMARY:No City Police Instructor
DESCRIPTION:
URL:https://brantsafetyvillage.ca/event/no-city-police-instructor-3/
CATEGORIES:Brantford Police
END:VEVENT
BEGIN:VEVENT
DTSTART;TZID=UTC:20250627T080000
DTEND;TZID=UTC:20250627T170000
DTSTAMP:20260426T013417
CREATED:20250501T144818Z
LAST-MODIFIED:20250501T144818Z
UID:14778-1751011200-1751043600@brantsafetyvillage.ca
SUMMARY:No City Police Instructor
DESCRIPTION:
URL:https://brantsafetyvillage.ca/event/no-city-police-instructor-4/
CATEGORIES:Brantford Police
END:VEVENT
BEGIN:VEVENT
DTSTART;TZID=UTC:20250918T123000
DTEND;TZID=UTC:20250918T140000
DTSTAMP:20260426T013417
CREATED:20250904T144854Z
LAST-MODIFIED:20250904T150537Z
UID:15169-1758198600-1758204000@brantsafetyvillage.ca
SUMMARY:BID 605 Grade 1 Modified - Approx 10 students
DESCRIPTION:
URL:https://brantsafetyvillage.ca/event/bid-605-grade-1-modified-approx-10-students/
CATEGORIES:Brantford Police,Grade 1
END:VEVENT
BEGIN:VEVENT
DTSTART;TZID=UTC:20251001T090000
DTEND;TZID=UTC:20251001T150000
DTSTAMP:20260426T013417
CREATED:20250828T173636Z
LAST-MODIFIED:20250828T173636Z
UID:15155-1759309200-1759330800@brantsafetyvillage.ca
SUMMARY:Safety Patrollers
DESCRIPTION:
URL:https://brantsafetyvillage.ca/event/safety-patrollers-6/
CATEGORIES:Brantford Police
END:VEVENT
BEGIN:VEVENT
DTSTART;TZID=UTC:20251002T080000
DTEND;TZID=UTC:20251002T170000
DTSTAMP:20260426T013418
CREATED:20250828T173732Z
LAST-MODIFIED:20250828T173732Z
UID:15157-1759392000-1759424400@brantsafetyvillage.ca
SUMMARY:Safety Patrollers
DESCRIPTION:
URL:https://brantsafetyvillage.ca/event/safety-patrollers-7/
CATEGORIES:Brantford Police
END:VEVENT
BEGIN:VEVENT
DTSTART;TZID=UTC:20251003T090000
DTEND;TZID=UTC:20251003T150000
DTSTAMP:20260426T013418
CREATED:20250828T173805Z
LAST-MODIFIED:20250828T173805Z
UID:15159-1759482000-1759503600@brantsafetyvillage.ca
SUMMARY:Safety Patrollers
DESCRIPTION:
URL:https://brantsafetyvillage.ca/event/safety-patrollers-8/
CATEGORIES:Brantford Police
END:VEVENT
BEGIN:VEVENT
DTSTART;TZID=UTC:20251008T100000
DTEND;TZID=UTC:20251008T113000
DTSTAMP:20260426T013418
CREATED:20250822T152345Z
LAST-MODIFIED:20250822T152807Z
UID:15124-1759917600-1759923000@brantsafetyvillage.ca
SUMMARY:BID 599 Grade 1 Personal Safety - Approx 4 students
DESCRIPTION:
URL:https://brantsafetyvillage.ca/event/grade-1-personal-safety-approx-4-students/
CATEGORIES:Brantford Police,Grade 1
END:VEVENT
BEGIN:VEVENT
DTSTART;TZID=UTC:20251010T100000
DTEND;TZID=UTC:20251010T113000
DTSTAMP:20260426T013418
CREATED:20250905T165540Z
LAST-MODIFIED:20250905T170425Z
UID:15202-1760090400-1760095800@brantsafetyvillage.ca
SUMMARY:BID 608 Grade 1 Personal Safety - Approx 30 students
DESCRIPTION:
URL:https://brantsafetyvillage.ca/event/grade-1-personal-safety-approx-30-students-4/
CATEGORIES:Brantford Police,Grade 1
END:VEVENT
BEGIN:VEVENT
DTSTART;TZID=UTC:20251010T123000
DTEND;TZID=UTC:20251010T140000
DTSTAMP:20260426T013418
CREATED:20250828T150903Z
LAST-MODIFIED:20250904T150024Z
UID:15147-1760099400-1760104800@brantsafetyvillage.ca
SUMMARY:BID 603 Grade 1 Personal Safety - Approx 24 students
DESCRIPTION:
URL:https://brantsafetyvillage.ca/event/grade-1-personal-safety-approx-24-students/
CATEGORIES:Brantford Police,Grade 1
END:VEVENT
BEGIN:VEVENT
DTSTART;TZID=UTC:20251015T100000
DTEND;TZID=UTC:20251015T113000
DTSTAMP:20260426T013418
CREATED:20250808T142728Z
LAST-MODIFIED:20250808T142728Z
UID:15093-1760522400-1760527800@brantsafetyvillage.ca
SUMMARY:BID 593 Grade 1 Personal Safety - Approx 20 students
DESCRIPTION:
URL:https://brantsafetyvillage.ca/event/bid-593-grade-1-personal-safety-approx-20-students/
CATEGORIES:Brantford Police,Grade 1
END:VEVENT
BEGIN:VEVENT
DTSTART;TZID=UTC:20251015T123000
DTEND;TZID=UTC:20251015T140000
DTSTAMP:20260426T013418
CREATED:20250808T142923Z
LAST-MODIFIED:20250808T142923Z
UID:15097-1760531400-1760536800@brantsafetyvillage.ca
SUMMARY:BID 595 Grade 1 Personal Safety - Approx 20 students
DESCRIPTION:
URL:https://brantsafetyvillage.ca/event/bid-595-grade-1-personal-safety-approx-20-students/
CATEGORIES:Brantford Police,Grade 1
END:VEVENT
BEGIN:VEVENT
DTSTART;TZID=UTC:20251016T100000
DTEND;TZID=UTC:20251016T113000
DTSTAMP:20260426T013418
CREATED:20250828T150610Z
LAST-MODIFIED:20250828T161511Z
UID:15143-1760608800-1760614200@brantsafetyvillage.ca
SUMMARY:BID 601 Grade 1 Personal Safety - Approx 20 Students
DESCRIPTION:
URL:https://brantsafetyvillage.ca/event/grade-1-personal-safety-approx-20-students-5/
CATEGORIES:Brantford Police,Grade 1
END:VEVENT
BEGIN:VEVENT
DTSTART;TZID=UTC:20251016T123000
DTEND;TZID=UTC:20251016T140000
DTSTAMP:20260426T013418
CREATED:20250925T131758Z
LAST-MODIFIED:20250925T133244Z
UID:15390-1760617800-1760623200@brantsafetyvillage.ca
SUMMARY:BID 590 Grade 1 Personal Safety - PM - Approx 20 students
DESCRIPTION:
URL:https://brantsafetyvillage.ca/event/grade-1-personal-safety-pm-approx-20-students-5/
CATEGORIES:Brantford Police,Grade 1
END:VEVENT
BEGIN:VEVENT
DTSTART;TZID=UTC:20251017T100000
DTEND;TZID=UTC:20251017T113000
DTSTAMP:20260426T013418
CREATED:20250910T153300Z
LAST-MODIFIED:20250910T161309Z
UID:15234-1760695200-1760700600@brantsafetyvillage.ca
SUMMARY:BID 616 Grade 1 Personal Safety - Approx 30 students
DESCRIPTION:
URL:https://brantsafetyvillage.ca/event/grade-1-personal-safety-approx-30-students-6/
CATEGORIES:Brantford Police,Grade 1
END:VEVENT
BEGIN:VEVENT
DTSTART;TZID=UTC:20251017T123000
DTEND;TZID=UTC:20251017T140000
DTSTAMP:20260426T013418
CREATED:20250910T155335Z
LAST-MODIFIED:20250910T161338Z
UID:15241-1760704200-1760709600@brantsafetyvillage.ca
SUMMARY:BID 618 Grade 1 Personal Safety - PM - Approx 20 students
DESCRIPTION:
URL:https://brantsafetyvillage.ca/event/grade-1-personal-safety-pm-approx-20-students-2/
CATEGORIES:Brantford Police,Grade 1
END:VEVENT
BEGIN:VEVENT
DTSTART;TZID=UTC:20251022T123000
DTEND;TZID=UTC:20251022T140000
DTSTAMP:20260426T013418
CREATED:20250918T175105Z
LAST-MODIFIED:20250925T135605Z
UID:15364-1761136200-1761141600@brantsafetyvillage.ca
SUMMARY:BID 644 Grade 1 Personal SAfety PM - Approx 22 students
DESCRIPTION:
URL:https://brantsafetyvillage.ca/event/grade-1-personal-safety-pm-approx-22-students-2/
CATEGORIES:Brantford Police,Grade 1
END:VEVENT
BEGIN:VEVENT
DTSTART;TZID=UTC:20251023T100000
DTEND;TZID=UTC:20251023T113000
DTSTAMP:20260426T013418
CREATED:20250923T144150Z
LAST-MODIFIED:20250923T161304Z
UID:15372-1761213600-1761219000@brantsafetyvillage.ca
SUMMARY:BID 645 Grade 1 Personal SAfety - AM - Approx 30 students
DESCRIPTION:
URL:https://brantsafetyvillage.ca/event/grade-1-personal-safety-am-approx-30-students-2/
CATEGORIES:Brantford Police,Grade 1
END:VEVENT
BEGIN:VEVENT
DTSTART;TZID=UTC:20251023T123000
DTEND;TZID=UTC:20251023T140000
DTSTAMP:20260426T013418
CREATED:20250923T144328Z
LAST-MODIFIED:20250923T161216Z
UID:15376-1761222600-1761228000@brantsafetyvillage.ca
SUMMARY:BID 647 Grade 1 Personal Safety - PM - Approx 30 students
DESCRIPTION:
URL:https://brantsafetyvillage.ca/event/grade-1-personal-safety-pm-approx-30-students-3/
CATEGORIES:Brantford Police,Grade 1
END:VEVENT
BEGIN:VEVENT
DTSTART;TZID=UTC:20251024T100000
DTEND;TZID=UTC:20251024T113000
DTSTAMP:20260426T013418
CREATED:20250910T145412Z
LAST-MODIFIED:20250910T150333Z
UID:15220-1761300000-1761305400@brantsafetyvillage.ca
SUMMARY:BID 612 Grade 1 Personal Safety - Approx 19 students
DESCRIPTION:
URL:https://brantsafetyvillage.ca/event/grade-1-personal-safety-approx-19-students-7/
CATEGORIES:Brantford Police,Grade 1
END:VEVENT
BEGIN:VEVENT
DTSTART;TZID=UTC:20251024T123000
DTEND;TZID=UTC:20251024T140000
DTSTAMP:20260426T013418
CREATED:20250910T164727Z
LAST-MODIFIED:20250910T165352Z
UID:15256-1761309000-1761314400@brantsafetyvillage.ca
SUMMARY:BID 622 Grade 1 Personal Safety - PM - Approx 30 students
DESCRIPTION:
URL:https://brantsafetyvillage.ca/event/grade-1-personal-safety-pm-approx-30-students-2/
CATEGORIES:Brantford Police,Grade 1
END:VEVENT
BEGIN:VEVENT
DTSTART;TZID=UTC:20251025T100000
DTEND;TZID=UTC:20251025T130000
DTSTAMP:20260426T013418
CREATED:20250821T141353Z
LAST-MODIFIED:20250821T141353Z
UID:15116-1761386400-1761397200@brantsafetyvillage.ca
SUMMARY:Halloween at The Village
DESCRIPTION:
URL:https://brantsafetyvillage.ca/event/halloween-at-the-village/
CATEGORIES:Brant County OPP,Brantford Fire,Brantford Police,County of Brant Fire,CVS Staff,Event,Six Nations Fire,Six Nations Police
END:VEVENT
BEGIN:VEVENT
DTSTART;TZID=UTC:20251029T100000
DTEND;TZID=UTC:20251029T113000
DTSTAMP:20260426T013418
CREATED:20250910T170520Z
LAST-MODIFIED:20250910T171602Z
UID:15263-1761732000-1761737400@brantsafetyvillage.ca
SUMMARY:BID 624 Grade 1 Personal Safety - AM - Approx 19 students
DESCRIPTION:
URL:https://brantsafetyvillage.ca/event/grade-1-personal-safety-am-approx-19-students/
CATEGORIES:Brantford Police,Grade 1
END:VEVENT
BEGIN:VEVENT
DTSTART;TZID=UTC:20251029T123000
DTEND;TZID=UTC:20251029T140000
DTSTAMP:20260426T013418
CREATED:20250918T154602Z
LAST-MODIFIED:20250925T151904Z
UID:15360-1761741000-1761746400@brantsafetyvillage.ca
SUMMARY:BID 642 Grade 1 Personal Safety - PM - Approx 22 students
DESCRIPTION:
URL:https://brantsafetyvillage.ca/event/grade-1-personal-safety-pm-approx-22-students/
CATEGORIES:Brantford Police,Grade 1
END:VEVENT
BEGIN:VEVENT
DTSTART;TZID=UTC:20251030T100000
DTEND;TZID=UTC:20251030T113000
DTSTAMP:20260426T013418
CREATED:20250918T183756Z
LAST-MODIFIED:20251030T172611Z
UID:15367-1761818400-1761823800@brantsafetyvillage.ca
SUMMARY:BID 653 Grade 1 Personal Safety AM - Homeschool Approx. 12
DESCRIPTION:
URL:https://brantsafetyvillage.ca/event/grade-1-personal-safety-am-homeschool-approx-30/
CATEGORIES:Brantford Police,Grade 1
END:VEVENT
BEGIN:VEVENT
DTSTART;TZID=UTC:20251030T123000
DTEND;TZID=UTC:20251030T140000
DTSTAMP:20260426T013418
CREATED:20250910T172750Z
LAST-MODIFIED:20250910T173632Z
UID:15270-1761827400-1761832800@brantsafetyvillage.ca
SUMMARY:BID 626 Grade 1 Personal Safety - PM - Approx 20 Students
DESCRIPTION:
URL:https://brantsafetyvillage.ca/event/grade-1-personal-safety-pm-approx-20-students-3/
CATEGORIES:Brantford Police,Grade 1
END:VEVENT
END:VCALENDAR