BEGIN:VCALENDAR
VERSION:2.0
PRODID:-//Brant Safety Village - ECPv6.15.20//NONSGML v1.0//EN
CALSCALE:GREGORIAN
METHOD:PUBLISH
X-WR-CALNAME:Brant Safety Village
X-ORIGINAL-URL:https://brantsafetyvillage.ca
X-WR-CALDESC:Events for Brant Safety Village
REFRESH-INTERVAL;VALUE=DURATION:PT1H
X-Robots-Tag:noindex
X-PUBLISHED-TTL:PT1H
BEGIN:VTIMEZONE
TZID:UTC
BEGIN:STANDARD
TZOFFSETFROM:+0000
TZOFFSETTO:+0000
TZNAME:UTC
DTSTART:20230101T000000
END:STANDARD
END:VTIMEZONE
BEGIN:VEVENT
DTSTART;TZID=UTC:20241105T100000
DTEND;TZID=UTC:20241105T113000
DTSTAMP:20260420T234833
CREATED:20240913T165847Z
LAST-MODIFIED:20241113T152428Z
UID:13308-1730800800-1730806200@brantsafetyvillage.ca
SUMMARY:BID 423 Grade 1 Personal Safety - PM -
DESCRIPTION:
URL:https://brantsafetyvillage.ca/event/grade-1-personal-safety-pm/
CATEGORIES:CVS Staff,Grade 1
END:VEVENT
BEGIN:VEVENT
DTSTART;TZID=UTC:20241105T123000
DTEND;TZID=UTC:20241105T140000
DTSTAMP:20260420T234833
CREATED:20240917T160044Z
LAST-MODIFIED:20241113T152322Z
UID:13346-1730809800-1730815200@brantsafetyvillage.ca
SUMMARY:BID 447 Grade 1 Personal Safety - PM - Approx 30 students
DESCRIPTION:
URL:https://brantsafetyvillage.ca/event/grade-1-personal-safety-pm-approx-30-students/
CATEGORIES:CVS Staff,Grade 1
END:VEVENT
BEGIN:VEVENT
DTSTART;TZID=UTC:20241112T100000
DTEND;TZID=UTC:20241112T113000
DTSTAMP:20260420T234833
CREATED:20240917T154506Z
LAST-MODIFIED:20241113T154211Z
UID:13342-1731405600-1731411000@brantsafetyvillage.ca
SUMMARY:BID 425 Grade 1 Personal Safety - AM - Approx 20 students
DESCRIPTION:
URL:https://brantsafetyvillage.ca/event/grade-1-personal-safety-am-approx-20-students/
CATEGORIES:CVS Staff,Grade 1
END:VEVENT
BEGIN:VEVENT
DTSTART;TZID=UTC:20241112T123000
DTEND;TZID=UTC:20241112T140000
DTSTAMP:20260420T234833
CREATED:20240917T154358Z
LAST-MODIFIED:20241113T172425Z
UID:13339-1731414600-1731420000@brantsafetyvillage.ca
SUMMARY:BID 426 Grade 1 Personal Safety - PM - Approx 17 Students
DESCRIPTION:
URL:https://brantsafetyvillage.ca/event/grade-1-personal-safety-pm-approx-17-students/
CATEGORIES:CVS Staff,Grade 1
END:VEVENT
END:VCALENDAR