BEGIN:VCALENDAR
VERSION:2.0
PRODID:-//Brant Safety Village - ECPv6.15.20//NONSGML v1.0//EN
CALSCALE:GREGORIAN
METHOD:PUBLISH
X-WR-CALNAME:Brant Safety Village
X-ORIGINAL-URL:https://brantsafetyvillage.ca
X-WR-CALDESC:Events for Brant Safety Village
REFRESH-INTERVAL;VALUE=DURATION:PT1H
X-Robots-Tag:noindex
X-PUBLISHED-TTL:PT1H
BEGIN:VTIMEZONE
TZID:UTC
BEGIN:STANDARD
TZOFFSETFROM:+0000
TZOFFSETTO:+0000
TZNAME:UTC
DTSTART:20240101T000000
END:STANDARD
END:VTIMEZONE
BEGIN:VEVENT
DTSTART;TZID=UTC:20250319T090000
DTEND;TZID=UTC:20250319T100000
DTSTAMP:20260420T182824
CREATED:20250228T142046Z
LAST-MODIFIED:20250228T142046Z
UID:14605-1742374800-1742378400@brantsafetyvillage.ca
SUMMARY:Platinum Fire - Annual Fire extinguisher inspection
DESCRIPTION:
URL:https://brantsafetyvillage.ca/event/platinum-fire-annual-fire-extinguisher-inspection/
CATEGORIES:CVS Staff
END:VEVENT
END:VCALENDAR