BEGIN:VCALENDAR
VERSION:2.0
PRODID:-//Brant Safety Village - ECPv6.15.20//NONSGML v1.0//EN
CALSCALE:GREGORIAN
METHOD:PUBLISH
X-WR-CALNAME:Brant Safety Village
X-ORIGINAL-URL:https://brantsafetyvillage.ca
X-WR-CALDESC:Events for Brant Safety Village
REFRESH-INTERVAL;VALUE=DURATION:PT1H
X-Robots-Tag:noindex
X-PUBLISHED-TTL:PT1H
BEGIN:VTIMEZONE
TZID:UTC
BEGIN:STANDARD
TZOFFSETFROM:+0000
TZOFFSETTO:+0000
TZNAME:UTC
DTSTART:20220101T000000
END:STANDARD
END:VTIMEZONE
BEGIN:VEVENT
DTSTART;TZID=UTC:20230306T080000
DTEND;TZID=UTC:20230306T170000
DTSTAMP:20260420T221108
CREATED:20230201T141909Z
LAST-MODIFIED:20230201T141909Z
UID:9703-1678089600-1678122000@brantsafetyvillage.ca
SUMMARY:Vicky - Autism
DESCRIPTION:
URL:https://brantsafetyvillage.ca/event/vicky-autism/
CATEGORIES:Event Preparation
END:VEVENT
BEGIN:VEVENT
DTSTART;TZID=UTC:20230323T080000
DTEND;TZID=UTC:20230323T120000
DTSTAMP:20260420T221108
CREATED:20230323T133847Z
LAST-MODIFIED:20230323T133847Z
UID:10090-1679558400-1679572800@brantsafetyvillage.ca
SUMMARY:Event Prep Police
DESCRIPTION:
URL:https://brantsafetyvillage.ca/event/event-prep-police-2/
CATEGORIES:Brantford Police,Event Preparation
END:VEVENT
BEGIN:VEVENT
DTSTART;TZID=UTC:20230327T090000
DTEND;TZID=UTC:20230327T150000
DTSTAMP:20260420T221108
CREATED:20230317T190850Z
LAST-MODIFIED:20230317T190850Z
UID:10055-1679907600-1679929200@brantsafetyvillage.ca
SUMMARY:Autism
DESCRIPTION:Vicky
URL:https://brantsafetyvillage.ca/event/autism-2/
CATEGORIES:Event Preparation
END:VEVENT
END:VCALENDAR