BEGIN:VCALENDAR
VERSION:2.0
PRODID:-//Brant Safety Village - ECPv6.15.20//NONSGML v1.0//EN
CALSCALE:GREGORIAN
METHOD:PUBLISH
X-WR-CALNAME:Brant Safety Village
X-ORIGINAL-URL:https://brantsafetyvillage.ca
X-WR-CALDESC:Events for Brant Safety Village
REFRESH-INTERVAL;VALUE=DURATION:PT1H
X-Robots-Tag:noindex
X-PUBLISHED-TTL:PT1H
BEGIN:VTIMEZONE
TZID:UTC
BEGIN:STANDARD
TZOFFSETFROM:+0000
TZOFFSETTO:+0000
TZNAME:UTC
DTSTART:20220101T000000
END:STANDARD
END:VTIMEZONE
BEGIN:VEVENT
DTSTART;TZID=UTC:20230513T080000
DTEND;TZID=UTC:20230513T170000
DTSTAMP:20260420T193403
CREATED:20230317T190633Z
LAST-MODIFIED:20230317T190633Z
UID:10051-1683964800-1683997200@brantsafetyvillage.ca
SUMMARY:Fun Day
DESCRIPTION:Kathryn
URL:https://brantsafetyvillage.ca/event/fun-day/
CATEGORIES:Event Preparation
END:VEVENT
BEGIN:VEVENT
DTSTART;TZID=UTC:20230529T080000
DTEND;TZID=UTC:20230529T170000
DTSTAMP:20260420T193403
CREATED:20230317T190714Z
LAST-MODIFIED:20230317T190714Z
UID:10053-1685347200-1685379600@brantsafetyvillage.ca
SUMMARY:Autism
DESCRIPTION:Vicky
URL:https://brantsafetyvillage.ca/event/autism/
CATEGORIES:Event Preparation
END:VEVENT
END:VCALENDAR