BEGIN:VCALENDAR
VERSION:2.0
PRODID:-//Brant Safety Village - ECPv6.15.20//NONSGML v1.0//EN
CALSCALE:GREGORIAN
METHOD:PUBLISH
X-WR-CALNAME:Brant Safety Village
X-ORIGINAL-URL:https://brantsafetyvillage.ca
X-WR-CALDESC:Events for Brant Safety Village
REFRESH-INTERVAL;VALUE=DURATION:PT1H
X-Robots-Tag:noindex
X-PUBLISHED-TTL:PT1H
BEGIN:VTIMEZONE
TZID:UTC
BEGIN:STANDARD
TZOFFSETFROM:+0000
TZOFFSETTO:+0000
TZNAME:UTC
DTSTART:20220101T000000
END:STANDARD
END:VTIMEZONE
BEGIN:VEVENT
DTSTART;TZID=UTC:20231127T100000
DTEND;TZID=UTC:20231127T143000
DTSTAMP:20260420T101329
CREATED:20230317T172641Z
LAST-MODIFIED:20230317T172641Z
UID:10044-1701079200-1701095400@brantsafetyvillage.ca
SUMMARY:Autism Dogs
DESCRIPTION:
URL:https://brantsafetyvillage.ca/event/autism-dogs/
CATEGORIES:Event Preparation
END:VEVENT
END:VCALENDAR