BEGIN:VCALENDAR
VERSION:2.0
PRODID:-//Brant Safety Village - ECPv6.15.20//NONSGML v1.0//EN
CALSCALE:GREGORIAN
METHOD:PUBLISH
X-ORIGINAL-URL:https://brantsafetyvillage.ca
X-WR-CALDESC:Events for Brant Safety Village
REFRESH-INTERVAL;VALUE=DURATION:PT1H
X-Robots-Tag:noindex
X-PUBLISHED-TTL:PT1H
BEGIN:VTIMEZONE
TZID:UTC
BEGIN:STANDARD
TZOFFSETFROM:+0000
TZOFFSETTO:+0000
TZNAME:UTC
DTSTART:20240101T000000
END:STANDARD
END:VTIMEZONE
BEGIN:VEVENT
DTSTART;VALUE=DATE:20250509
DTEND;VALUE=DATE:20250510
DTSTAMP:20260421T010333
CREATED:20250224T201901Z
LAST-MODIFIED:20250225T180232Z
UID:14598-1746748800-1746835199@brantsafetyvillage.ca
SUMMARY:City Police instructor unavailable
DESCRIPTION:
URL:https://brantsafetyvillage.ca/event/city-police-instructor-unavailable-4/
CATEGORIES:Brantford Police,Event Preparation
END:VEVENT
BEGIN:VEVENT
DTSTART;TZID=UTC:20260617T130000
DTEND;TZID=UTC:20260617T170000
DTSTAMP:20260421T010333
CREATED:20260417T182009Z
LAST-MODIFIED:20260417T182009Z
UID:16098-1781701200-1781715600@brantsafetyvillage.ca
SUMMARY:Ploughman's Lunch Prep
DESCRIPTION:
URL:https://brantsafetyvillage.ca/event/ploughmans-lunch-prep/
CATEGORIES:CVS Staff,Event Preparation
END:VEVENT
BEGIN:VEVENT
DTSTART;TZID=UTC:20261016T080000
DTEND;TZID=UTC:20261016T170000
DTSTAMP:20260421T010333
CREATED:20250626T135756Z
LAST-MODIFIED:20250626T135756Z
UID:15016-1792137600-1792170000@brantsafetyvillage.ca
SUMMARY:ADS - Howl set-up
DESCRIPTION:Set up for Howl-o-Ween event
URL:https://brantsafetyvillage.ca/event/ads-howl-set-up/
CATEGORIES:Event Preparation
END:VEVENT
END:VCALENDAR