BEGIN:VCALENDAR
VERSION:2.0
PRODID:-//Brant Safety Village - ECPv6.15.20//NONSGML v1.0//EN
CALSCALE:GREGORIAN
METHOD:PUBLISH
X-ORIGINAL-URL:https://brantsafetyvillage.ca
X-WR-CALDESC:Events for Brant Safety Village
REFRESH-INTERVAL;VALUE=DURATION:PT1H
X-Robots-Tag:noindex
X-PUBLISHED-TTL:PT1H
BEGIN:VTIMEZONE
TZID:UTC
BEGIN:STANDARD
TZOFFSETFROM:+0000
TZOFFSETTO:+0000
TZNAME:UTC
DTSTART:20250101T000000
END:STANDARD
END:VTIMEZONE
BEGIN:VEVENT
DTSTART;TZID=UTC:20260310T130000
DTEND;TZID=UTC:20260310T160000
DTSTAMP:20260419T230643
CREATED:20260220T143023Z
LAST-MODIFIED:20260220T143023Z
UID:15967-1773147600-1773158400@brantsafetyvillage.ca
SUMMARY:Paul wiacek - Bulldogs
DESCRIPTION:
URL:https://brantsafetyvillage.ca/event/paul-wiacek-bulldogs/
CATEGORIES:Event
END:VEVENT
BEGIN:VEVENT
DTSTART;TZID=UTC:20260330T080000
DTEND;TZID=UTC:20260330T170000
DTSTAMP:20260419T230643
CREATED:20260304T144759Z
LAST-MODIFIED:20260304T144759Z
UID:15999-1774857600-1774890000@brantsafetyvillage.ca
SUMMARY:Vicky - ADS
DESCRIPTION:
URL:https://brantsafetyvillage.ca/event/vicky-ads-2/
CATEGORIES:Event
END:VEVENT
END:VCALENDAR