BEGIN:VCALENDAR
VERSION:2.0
PRODID:-//Brant Safety Village - ECPv6.15.20//NONSGML v1.0//EN
CALSCALE:GREGORIAN
METHOD:PUBLISH
X-ORIGINAL-URL:https://brantsafetyvillage.ca
X-WR-CALDESC:Events for Brant Safety Village
REFRESH-INTERVAL;VALUE=DURATION:PT1H
X-Robots-Tag:noindex
X-PUBLISHED-TTL:PT1H
BEGIN:VTIMEZONE
TZID:UTC
BEGIN:STANDARD
TZOFFSETFROM:+0000
TZOFFSETTO:+0000
TZNAME:UTC
DTSTART:20230101T000000
END:STANDARD
END:VTIMEZONE
BEGIN:VEVENT
DTSTART;TZID=UTC:20260404T100000
DTEND;TZID=UTC:20260404T130000
DTSTAMP:20260420T005703
CREATED:20260202T192147Z
LAST-MODIFIED:20260202T192208Z
UID:15900-1775296800-1775307600@brantsafetyvillage.ca
SUMMARY:Easter Egg Hunt at The Village
DESCRIPTION:
URL:https://brantsafetyvillage.ca/event/easter-egg-hunt-at-the-village/
CATEGORIES:Brant County OPP,Brantford Fire,Brantford Police,County of Brant Fire,CVS Staff,Event,Six Nations Fire,Six Nations Police
END:VEVENT
BEGIN:VEVENT
DTSTART;TZID=UTC:20260330T080000
DTEND;TZID=UTC:20260330T170000
DTSTAMP:20260420T005703
CREATED:20260304T144759Z
LAST-MODIFIED:20260304T144759Z
UID:15999-1774857600-1774890000@brantsafetyvillage.ca
SUMMARY:Vicky - ADS
DESCRIPTION:
URL:https://brantsafetyvillage.ca/event/vicky-ads-2/
CATEGORIES:Event
END:VEVENT
BEGIN:VEVENT
DTSTART;TZID=UTC:20260310T130000
DTEND;TZID=UTC:20260310T160000
DTSTAMP:20260420T005703
CREATED:20260220T143023Z
LAST-MODIFIED:20260220T143023Z
UID:15967-1773147600-1773158400@brantsafetyvillage.ca
SUMMARY:Paul wiacek - Bulldogs
DESCRIPTION:
URL:https://brantsafetyvillage.ca/event/paul-wiacek-bulldogs/
CATEGORIES:Event
END:VEVENT
BEGIN:VEVENT
DTSTART;TZID=UTC:20251121T120000
DTEND;TZID=UTC:20251121T130000
DTSTAMP:20260420T005703
CREATED:20250930T142248Z
LAST-MODIFIED:20251121T163134Z
UID:15412-1763726400-1763730000@brantsafetyvillage.ca
SUMMARY:Vive Maintenance
DESCRIPTION:
URL:https://brantsafetyvillage.ca/event/vive/
CATEGORIES:Event
END:VEVENT
BEGIN:VEVENT
DTSTART;TZID=UTC:20251105T080000
DTEND;TZID=UTC:20251105T170000
DTSTAMP:20260420T005703
CREATED:20250926T151318Z
LAST-MODIFIED:20250926T151318Z
UID:15410-1762329600-1762362000@brantsafetyvillage.ca
SUMMARY:Brantford Police Event
DESCRIPTION:
URL:https://brantsafetyvillage.ca/event/brantford-police-event/
CATEGORIES:Brantford Police,Event
END:VEVENT
BEGIN:VEVENT
DTSTART;TZID=UTC:20251027T140000
DTEND;TZID=UTC:20251027T190000
DTSTAMP:20260420T005703
CREATED:20250923T144541Z
LAST-MODIFIED:20251008T151823Z
UID:15380-1761573600-1761591600@brantsafetyvillage.ca
SUMMARY:Six Nations Halloween Event
DESCRIPTION:
URL:https://brantsafetyvillage.ca/event/six-nations-halloween-event/
CATEGORIES:Event,Six Nations Police
END:VEVENT
BEGIN:VEVENT
DTSTART;TZID=UTC:20251025T100000
DTEND;TZID=UTC:20251025T130000
DTSTAMP:20260420T005703
CREATED:20250821T141353Z
LAST-MODIFIED:20250821T141353Z
UID:15116-1761386400-1761397200@brantsafetyvillage.ca
SUMMARY:Halloween at The Village
DESCRIPTION:
URL:https://brantsafetyvillage.ca/event/halloween-at-the-village/
CATEGORIES:Brant County OPP,Brantford Fire,Brantford Police,County of Brant Fire,CVS Staff,Event,Six Nations Fire,Six Nations Police
END:VEVENT
BEGIN:VEVENT
DTSTART;TZID=UTC:20250823T080000
DTEND;TZID=UTC:20250823T170000
DTSTAMP:20260420T005703
CREATED:20250611T151356Z
LAST-MODIFIED:20250611T151356Z
UID:14984-1755936000-1755968400@brantsafetyvillage.ca
SUMMARY:Kiwanis Meeting
DESCRIPTION:
URL:https://brantsafetyvillage.ca/event/kiwanis-meeting-3/
CATEGORIES:Event
END:VEVENT
BEGIN:VEVENT
DTSTART;TZID=UTC:20250626T080000
DTEND;TZID=UTC:20250626T170000
DTSTAMP:20260420T005703
CREATED:20250626T135852Z
LAST-MODIFIED:20250626T135852Z
UID:15018-1750924800-1750957200@brantsafetyvillage.ca
SUMMARY:ADS - Howl-o-ween
DESCRIPTION:
URL:https://brantsafetyvillage.ca/event/ads-howl-o-ween/
CATEGORIES:Event
END:VEVENT
BEGIN:VEVENT
DTSTART;VALUE=DATE:20250621
DTEND;VALUE=DATE:20250622
DTSTAMP:20260420T005703
CREATED:20250515T154506Z
LAST-MODIFIED:20250515T154506Z
UID:14916-1750464000-1750550399@brantsafetyvillage.ca
SUMMARY:Private Event
DESCRIPTION:
URL:https://brantsafetyvillage.ca/event/private-event/
CATEGORIES:Event
END:VEVENT
BEGIN:VEVENT
DTSTART;VALUE=DATE:20250619
DTEND;VALUE=DATE:20250620
DTSTAMP:20260420T005703
CREATED:20250312T181704Z
LAST-MODIFIED:20250312T181704Z
UID:14632-1750291200-1750377599@brantsafetyvillage.ca
SUMMARY:Ploughman's Lunch
DESCRIPTION:
URL:https://brantsafetyvillage.ca/event/ploughmans-lunch-3/
CATEGORIES:Event
END:VEVENT
BEGIN:VEVENT
DTSTART;VALUE=DATE:20250607
DTEND;VALUE=DATE:20250608
DTSTAMP:20260420T005703
CREATED:20240726T134149Z
LAST-MODIFIED:20240726T134149Z
UID:12490-1749254400-1749340799@brantsafetyvillage.ca
SUMMARY:Autism Dog Services - Graduation
DESCRIPTION:
URL:https://brantsafetyvillage.ca/event/autism-dog-services-graduation/
CATEGORIES:Event
END:VEVENT
BEGIN:VEVENT
DTSTART;TZID=UTC:20250526T100000
DTEND;TZID=UTC:20250526T140000
DTSTAMP:20260420T005703
CREATED:20250430T141413Z
LAST-MODIFIED:20250430T141413Z
UID:14767-1748253600-1748268000@brantsafetyvillage.ca
SUMMARY:ADS - Vicky
DESCRIPTION:Autism Dog Services
URL:https://brantsafetyvillage.ca/event/ads-vicky/
CATEGORIES:Event
END:VEVENT
BEGIN:VEVENT
DTSTART;TZID=UTC:20250510T090000
DTEND;TZID=UTC:20250510T143000
DTSTAMP:20260420T005703
CREATED:20250224T200856Z
LAST-MODIFIED:20250224T200856Z
UID:14589-1746867600-1746887400@brantsafetyvillage.ca
SUMMARY:Police Family Fun Day
DESCRIPTION:
URL:https://brantsafetyvillage.ca/event/police-family-fun-day/
CATEGORIES:Brantford Police,Event
END:VEVENT
BEGIN:VEVENT
DTSTART;VALUE=DATE:20250506
DTEND;VALUE=DATE:20250507
DTSTAMP:20260420T005703
CREATED:20250429T134358Z
LAST-MODIFIED:20250429T134358Z
UID:14762-1746489600-1746575999@brantsafetyvillage.ca
SUMMARY:Painting the Village
DESCRIPTION:
URL:https://brantsafetyvillage.ca/event/painting-the-village-2/
CATEGORIES:Brantford Police,CVS Staff,Event
END:VEVENT
BEGIN:VEVENT
DTSTART;VALUE=DATE:20250422
DTEND;VALUE=DATE:20250423
DTSTAMP:20260420T005703
CREATED:20250320T135757Z
LAST-MODIFIED:20250320T135757Z
UID:14648-1745280000-1745366399@brantsafetyvillage.ca
SUMMARY:Painting The Village
DESCRIPTION:
URL:https://brantsafetyvillage.ca/event/painting-the-village/
CATEGORIES:Brantford Police,Event
END:VEVENT
BEGIN:VEVENT
DTSTART;TZID=UTC:20250419T103000
DTEND;TZID=UTC:20250419T133000
DTSTAMP:20260420T005703
CREATED:20250130T170715Z
LAST-MODIFIED:20250130T170813Z
UID:14533-1745058600-1745069400@brantsafetyvillage.ca
SUMMARY:Easter Egg Hunt
DESCRIPTION:
URL:https://brantsafetyvillage.ca/event/easter-egg-hunt-3/
CATEGORIES:Event
END:VEVENT
BEGIN:VEVENT
DTSTART;VALUE=DATE:20241019
DTEND;VALUE=DATE:20241020
DTSTAMP:20260420T005703
CREATED:20240726T133340Z
LAST-MODIFIED:20240726T133429Z
UID:12483-1729296000-1729382399@brantsafetyvillage.ca
SUMMARY:Autism Dog Services Howl-O-Ween Event
DESCRIPTION:
URL:https://brantsafetyvillage.ca/event/autism-dog-services-howl-o-ween-event/
CATEGORIES:Event
END:VEVENT
BEGIN:VEVENT
DTSTART;TZID=UTC:20241018T150000
DTEND;TZID=UTC:20241018T203000
DTSTAMP:20260420T005703
CREATED:20240726T133203Z
LAST-MODIFIED:20240726T194427Z
UID:12480-1729263600-1729283400@brantsafetyvillage.ca
SUMMARY:Autism Dogs Services Howl-o-Ween set up
DESCRIPTION:
URL:https://brantsafetyvillage.ca/event/autism-dogs-services-howl-o-ween-set-up/
CATEGORIES:Event
END:VEVENT
BEGIN:VEVENT
DTSTART;VALUE=DATE:20240817
DTEND;VALUE=DATE:20240818
DTSTAMP:20260420T005703
CREATED:20240726T153706Z
LAST-MODIFIED:20240802T133241Z
UID:12498-1723852800-1723939199@brantsafetyvillage.ca
SUMMARY:Appreciation Day
DESCRIPTION:
URL:https://brantsafetyvillage.ca/event/autism-dog-services-6/
CATEGORIES:Event
END:VEVENT
BEGIN:VEVENT
DTSTART;VALUE=DATE:20240810
DTEND;VALUE=DATE:20240811
DTSTAMP:20260420T005703
CREATED:20240712T112324Z
LAST-MODIFIED:20240712T112324Z
UID:12462-1723248000-1723334399@brantsafetyvillage.ca
SUMMARY:Kiwanis BBQ
DESCRIPTION:
URL:https://brantsafetyvillage.ca/event/kiwanis-bbq/
CATEGORIES:Event
END:VEVENT
END:VCALENDAR