BEGIN:VCALENDAR
VERSION:2.0
PRODID:-//Brant Safety Village - ECPv6.15.20//NONSGML v1.0//EN
CALSCALE:GREGORIAN
METHOD:PUBLISH
X-ORIGINAL-URL:https://brantsafetyvillage.ca
X-WR-CALDESC:Events for Brant Safety Village
REFRESH-INTERVAL;VALUE=DURATION:PT1H
X-Robots-Tag:noindex
X-PUBLISHED-TTL:PT1H
BEGIN:VTIMEZONE
TZID:UTC
BEGIN:STANDARD
TZOFFSETFROM:+0000
TZOFFSETTO:+0000
TZNAME:UTC
DTSTART:20210101T000000
END:STANDARD
END:VTIMEZONE
BEGIN:VEVENT
DTSTART;TZID=UTC:20221102T100000
DTEND;TZID=UTC:20221102T233000
DTSTAMP:20260422T215452
CREATED:20221006T132156Z
LAST-MODIFIED:20221006T132156Z
UID:7269-1667383200-1667431800@brantsafetyvillage.ca
SUMMARY:Grade 2 Fire - Major Ballachey (Approx. 35 Students)
DESCRIPTION:Corrine VanDenBroek \nStudent in wheelchair and 2 with autism – sensitive to loud noises
URL:https://brantsafetyvillage.ca/event/grade-2-fire-major-ballachey-approx-35-students/
CATEGORIES:Brantford Fire,Grade 2
END:VEVENT
BEGIN:VEVENT
DTSTART;TZID=UTC:20221102T123000
DTEND;TZID=UTC:20221102T140000
DTSTAMP:20260422T215452
CREATED:20221014T130810Z
LAST-MODIFIED:20221014T130810Z
UID:7376-1667392200-1667397600@brantsafetyvillage.ca
SUMMARY:Grade 2 Fire - Greenbrier (Approx 27 students)
DESCRIPTION:Becky Solole
URL:https://brantsafetyvillage.ca/event/grade-2-fire-greenbrier-approx-27-students/
CATEGORIES:Brantford Fire,Grade 2
END:VEVENT
BEGIN:VEVENT
DTSTART;TZID=UTC:20221103T100000
DTEND;TZID=UTC:20221103T110000
DTSTAMP:20260422T215452
CREATED:20221007T175557Z
LAST-MODIFIED:20221007T175557Z
UID:7322-1667469600-1667473200@brantsafetyvillage.ca
SUMMARY:Grade 2 Fire - King George (Approx 20 students)
DESCRIPTION:Kyle Osmon
URL:https://brantsafetyvillage.ca/event/grade-2-fire-king-george-approx-20-students/
CATEGORIES:Brantford Fire,Grade 2
END:VEVENT
BEGIN:VEVENT
DTSTART;TZID=UTC:20221103T123000
DTEND;TZID=UTC:20221103T140000
DTSTAMP:20260422T215452
CREATED:20221007T175723Z
LAST-MODIFIED:20221007T175723Z
UID:7324-1667478600-1667484000@brantsafetyvillage.ca
SUMMARY:Grade 2 Fire - King George (Approx 23 students)
DESCRIPTION:Kyle Osmon
URL:https://brantsafetyvillage.ca/event/grade-2-fire-king-george-approx-23-students/
CATEGORIES:Brantford Fire,Grade 2
END:VEVENT
BEGIN:VEVENT
DTSTART;TZID=UTC:20221108T100000
DTEND;TZID=UTC:20221108T113000
DTSTAMP:20260422T215452
CREATED:20220922T172547Z
LAST-MODIFIED:20220922T172547Z
UID:6826-1667901600-1667907000@brantsafetyvillage.ca
SUMMARY:Grade 2 Fire - St. George-German (approx 20 students)
DESCRIPTION:Karen Walker
URL:https://brantsafetyvillage.ca/event/grade-2-fire-st-george-german-approx-20-students/
CATEGORIES:County of Brant Fire,Grade 2
END:VEVENT
BEGIN:VEVENT
DTSTART;TZID=UTC:20221108T123000
DTEND;TZID=UTC:20221108T140000
DTSTAMP:20260422T215452
CREATED:20220922T172758Z
LAST-MODIFIED:20220922T172758Z
UID:6829-1667910600-1667916000@brantsafetyvillage.ca
SUMMARY:Grade 2 Fire - St. George-German (approx 20 students)
DESCRIPTION:Melissa Schroeder-Hribal
URL:https://brantsafetyvillage.ca/event/grade-2-fire-st-george-german-approx-20-students-2/
CATEGORIES:County of Brant Fire,Grade 2
END:VEVENT
BEGIN:VEVENT
DTSTART;TZID=UTC:20221117T100000
DTEND;TZID=UTC:20221117T113000
DTSTAMP:20260422T215452
CREATED:20220927T141555Z
LAST-MODIFIED:20220927T141555Z
UID:7090-1668679200-1668684600@brantsafetyvillage.ca
SUMMARY:Grade 2 Fire Russell Reid (Approx. 20 students)
DESCRIPTION:Lucy Lemmon
URL:https://brantsafetyvillage.ca/event/grade-2-fire-russell-reid-approx-20-students/
CATEGORIES:Brantford Fire,Grade 2
END:VEVENT
BEGIN:VEVENT
DTSTART;TZID=UTC:20221117T123000
DTEND;TZID=UTC:20221117T140000
DTSTAMP:20260422T215452
CREATED:20221006T132806Z
LAST-MODIFIED:20221006T132806Z
UID:7274-1668688200-1668693600@brantsafetyvillage.ca
SUMMARY:Grade 2 Fire - James Hillier (Approx 30 students)
DESCRIPTION:Susan Eddy
URL:https://brantsafetyvillage.ca/event/grade-2-fire-james-hillier-approx-30-students/
CATEGORIES:Brantford Fire,Grade 2
END:VEVENT
BEGIN:VEVENT
DTSTART;TZID=UTC:20221118T123000
DTEND;TZID=UTC:20221118T140000
DTSTAMP:20260422T215452
CREATED:20220927T135100Z
LAST-MODIFIED:20220927T135100Z
UID:7088-1668774600-1668780000@brantsafetyvillage.ca
SUMMARY:Grade 2 Fire - Dufferin (Approx 35 students)
DESCRIPTION:Camila Davila
URL:https://brantsafetyvillage.ca/event/grade-2-fire-dufferin-approx-35-students/
CATEGORIES:Brantford Fire,Grade 2
END:VEVENT
BEGIN:VEVENT
DTSTART;TZID=UTC:20221129T100000
DTEND;TZID=UTC:20221129T113000
DTSTAMP:20260422T215452
CREATED:20221104T154639Z
LAST-MODIFIED:20221202T040937Z
UID:7835-1669716000-1669721400@brantsafetyvillage.ca
SUMMARY:Grade 2 Fire Safety (Approx 15 students)
DESCRIPTION:
URL:https://brantsafetyvillage.ca/event/grade-2-fire-safety-holy-family-approx-15-students/
CATEGORIES:County of Brant Fire,Grade 2
END:VEVENT
END:VCALENDAR