BEGIN:VCALENDAR
VERSION:2.0
PRODID:-//Brant Safety Village - ECPv6.15.20//NONSGML v1.0//EN
CALSCALE:GREGORIAN
METHOD:PUBLISH
X-ORIGINAL-URL:https://brantsafetyvillage.ca
X-WR-CALDESC:Events for Brant Safety Village
REFRESH-INTERVAL;VALUE=DURATION:PT1H
X-Robots-Tag:noindex
X-PUBLISHED-TTL:PT1H
BEGIN:VTIMEZONE
TZID:UTC
BEGIN:STANDARD
TZOFFSETFROM:+0000
TZOFFSETTO:+0000
TZNAME:UTC
DTSTART:20240101T000000
END:STANDARD
END:VTIMEZONE
BEGIN:VEVENT
DTSTART;TZID=UTC:20250410T123000
DTEND;TZID=UTC:20250410T140000
DTSTAMP:20260420T193419
CREATED:20250131T204346Z
LAST-MODIFIED:20250131T204627Z
UID:14541-1744288200-1744293600@brantsafetyvillage.ca
SUMMARY:BID 387 Grade 2 Fire Safety PM (Approx. 12 kids)
DESCRIPTION:
URL:https://brantsafetyvillage.ca/event/bid-387-grade-2-fire-safety-pm-approx-12-kids/
CATEGORIES:Brantford Fire,Grade 2
END:VEVENT
END:VCALENDAR