BEGIN:VCALENDAR
VERSION:2.0
PRODID:-//Brant Safety Village - ECPv6.15.20//NONSGML v1.0//EN
CALSCALE:GREGORIAN
METHOD:PUBLISH
X-WR-CALNAME:Brant Safety Village
X-ORIGINAL-URL:https://brantsafetyvillage.ca
X-WR-CALDESC:Events for Brant Safety Village
REFRESH-INTERVAL;VALUE=DURATION:PT1H
X-Robots-Tag:noindex
X-PUBLISHED-TTL:PT1H
BEGIN:VTIMEZONE
TZID:UTC
BEGIN:STANDARD
TZOFFSETFROM:+0000
TZOFFSETTO:+0000
TZNAME:UTC
DTSTART:20240101T000000
END:STANDARD
END:VTIMEZONE
BEGIN:VEVENT
DTSTART;TZID=UTC:20251023T123000
DTEND;TZID=UTC:20251023T140000
DTSTAMP:20260421T052514
CREATED:20250923T144432Z
LAST-MODIFIED:20250923T161228Z
UID:15378-1761222600-1761228000@brantsafetyvillage.ca
SUMMARY:BID 648 Grade 2 Fire Program - PM - Approx 30 students
DESCRIPTION:
URL:https://brantsafetyvillage.ca/event/grade-2-fire-program-pm-approx-30-students-3/
CATEGORIES:Brantford Fire,Grade 2
END:VEVENT
BEGIN:VEVENT
DTSTART;TZID=UTC:20251024T100000
DTEND;TZID=UTC:20251024T113000
DTSTAMP:20260421T052514
CREATED:20250910T145500Z
LAST-MODIFIED:20250910T150253Z
UID:15222-1761300000-1761305400@brantsafetyvillage.ca
SUMMARY:BID 613 Grade 2 Fire Program - Approx 19 students
DESCRIPTION:
URL:https://brantsafetyvillage.ca/event/grade-2-fire-program-approx-19-students/
CATEGORIES:Brantford Fire,Grade 2
END:VEVENT
BEGIN:VEVENT
DTSTART;TZID=UTC:20251024T123000
DTEND;TZID=UTC:20251024T140000
DTSTAMP:20260421T052514
CREATED:20250910T164821Z
LAST-MODIFIED:20250910T165316Z
UID:15258-1761309000-1761314400@brantsafetyvillage.ca
SUMMARY:BID 623 Grade 2 Fire Program - PM - Approx 30 students
DESCRIPTION:
URL:https://brantsafetyvillage.ca/event/grade-2-fire-program-pm-approx-30-students-2/
CATEGORIES:Brantford Fire,Grade 2
END:VEVENT
BEGIN:VEVENT
DTSTART;TZID=UTC:20251027T100000
DTEND;TZID=UTC:20251027T113000
DTSTAMP:20260421T052514
CREATED:20251008T151719Z
LAST-MODIFIED:20251008T151719Z
UID:15418-1761559200-1761564600@brantsafetyvillage.ca
SUMMARY:BID 621 Grade 2 Fire Safety (AM) - Approx. 22 Students
DESCRIPTION:
URL:https://brantsafetyvillage.ca/event/bid-621-grade-2-fire-safety-am-approx-22-students/
CATEGORIES:Grade 2,Six Nations Fire
END:VEVENT
BEGIN:VEVENT
DTSTART;TZID=UTC:20251028T100000
DTEND;TZID=UTC:20251028T113000
DTSTAMP:20260421T052514
CREATED:20250828T150354Z
LAST-MODIFIED:20250828T161423Z
UID:15139-1761645600-1761651000@brantsafetyvillage.ca
SUMMARY:BID 604 Grade 2 Fire - Approx 14 students
DESCRIPTION:
URL:https://brantsafetyvillage.ca/event/grade-2-fire-approx-14-students/
CATEGORIES:County of Brant Fire,Grade 2
END:VEVENT
BEGIN:VEVENT
DTSTART;TZID=UTC:20251028T123000
DTEND;TZID=UTC:20251028T140000
DTSTAMP:20260421T052514
CREATED:20250916T131028Z
LAST-MODIFIED:20250916T152408Z
UID:15287-1761654600-1761660000@brantsafetyvillage.ca
SUMMARY:BID 629 Grade 2 Fire Program - PM - Approx 14 students
DESCRIPTION:
URL:https://brantsafetyvillage.ca/event/grade-2-fire-program-am-approx-14-students-2/
CATEGORIES:County of Brant Fire,Grade 2
END:VEVENT
BEGIN:VEVENT
DTSTART;TZID=UTC:20251028T123000
DTEND;TZID=UTC:20251028T140000
DTSTAMP:20260421T052514
CREATED:20250916T131210Z
LAST-MODIFIED:20250916T143654Z
UID:15289-1761654600-1761660000@brantsafetyvillage.ca
SUMMARY:BID 631 Grade 2 Fire Program - PM - Approx 20 Students
DESCRIPTION:
URL:https://brantsafetyvillage.ca/event/grade-2-fire-program-am-approx-20-students-3/
CATEGORIES:County of Brant Fire,Grade 2
END:VEVENT
BEGIN:VEVENT
DTSTART;TZID=UTC:20251029T100000
DTEND;TZID=UTC:20251029T113000
DTSTAMP:20260421T052514
CREATED:20250910T170622Z
LAST-MODIFIED:20250910T171511Z
UID:15265-1761732000-1761737400@brantsafetyvillage.ca
SUMMARY:BID 625 Grade 2 Fire Program - AM - Approx 20 students
DESCRIPTION:
URL:https://brantsafetyvillage.ca/event/grade-2-fire-program-am-approx-20-students-2/
CATEGORIES:Brantford Fire,Grade 2
END:VEVENT
BEGIN:VEVENT
DTSTART;TZID=UTC:20251029T123000
DTEND;TZID=UTC:20251029T140000
DTSTAMP:20260421T052514
CREATED:20250918T154659Z
LAST-MODIFIED:20250925T151826Z
UID:15362-1761741000-1761746400@brantsafetyvillage.ca
SUMMARY:BID 643 Grade 2 Fire Program - Approx 22 students
DESCRIPTION:
URL:https://brantsafetyvillage.ca/event/grade-2-fire-program-approx-22-students/
CATEGORIES:Brantford Fire,Grade 2
END:VEVENT
BEGIN:VEVENT
DTSTART;TZID=UTC:20251030T100000
DTEND;TZID=UTC:20251030T113000
DTSTAMP:20260421T052514
CREATED:20250918T183849Z
LAST-MODIFIED:20251030T173407Z
UID:15369-1761818400-1761823800@brantsafetyvillage.ca
SUMMARY:BID 654 Grade 2 Fire Program AM - Homeschool - Approx. 30 students
DESCRIPTION:
URL:https://brantsafetyvillage.ca/event/grade-2-fire-program-am-homeschool-approx-30-students/
CATEGORIES:Brantford Fire,Grade 2
END:VEVENT
BEGIN:VEVENT
DTSTART;TZID=UTC:20251030T123000
DTEND;TZID=UTC:20251030T140000
DTSTAMP:20260421T052514
CREATED:20250910T172845Z
LAST-MODIFIED:20250910T173600Z
UID:15272-1761827400-1761832800@brantsafetyvillage.ca
SUMMARY:BID 627 Grade 2 Fire Program - PM - Approx 20 students
DESCRIPTION:
URL:https://brantsafetyvillage.ca/event/grade-2-fire-program-pm-approx-20-students-3/
CATEGORIES:Brantford Fire,Grade 2
END:VEVENT
BEGIN:VEVENT
DTSTART;TZID=UTC:20251103T123000
DTEND;TZID=UTC:20251103T140000
DTSTAMP:20260421T052514
CREATED:20251008T191844Z
LAST-MODIFIED:20251008T192019Z
UID:15429-1762173000-1762178400@brantsafetyvillage.ca
SUMMARY:BID 652 Grade 2 Fire Safety (PM) - Approx. 22 students.
DESCRIPTION:
URL:https://brantsafetyvillage.ca/event/bid-652-grade-2-fire-safety-approx-22/
CATEGORIES:Grade 2,Six Nations Fire
END:VEVENT
BEGIN:VEVENT
DTSTART;TZID=UTC:20251104T100000
DTEND;TZID=UTC:20251104T113000
DTSTAMP:20260421T052514
CREATED:20250916T153056Z
LAST-MODIFIED:20250916T155413Z
UID:15301-1762250400-1762255800@brantsafetyvillage.ca
SUMMARY:BID 632 Grade 2 Fire Program - AM - Approx 30 students
DESCRIPTION:
URL:https://brantsafetyvillage.ca/event/grade-2-fire-program-am-approx-30-students/
CATEGORIES:County of Brant Fire,Grade 2
END:VEVENT
BEGIN:VEVENT
DTSTART;TZID=UTC:20251104T123000
DTEND;TZID=UTC:20251104T140000
DTSTAMP:20260421T052514
CREATED:20250916T153257Z
LAST-MODIFIED:20250916T154947Z
UID:15305-1762259400-1762264800@brantsafetyvillage.ca
SUMMARY:BID 634 Grade 2 Fire Program - PM - Approx 24 students
DESCRIPTION:
URL:https://brantsafetyvillage.ca/event/grade-2-fire-program-pm-approx-24-students/
CATEGORIES:County of Brant Fire,Grade 2
END:VEVENT
BEGIN:VEVENT
DTSTART;TZID=UTC:20251106T100000
DTEND;TZID=UTC:20251106T113000
DTSTAMP:20260421T052514
CREATED:20250916T153631Z
LAST-MODIFIED:20250916T155342Z
UID:15311-1762423200-1762428600@brantsafetyvillage.ca
SUMMARY:BID 637 Grade 2 Fire Program - AM - Approx 24 students
DESCRIPTION:
URL:https://brantsafetyvillage.ca/event/grade-2-fire-program-am-approx-24-students/
CATEGORIES:Brantford Fire,Grade 2
END:VEVENT
BEGIN:VEVENT
DTSTART;TZID=UTC:20251106T123000
DTEND;TZID=UTC:20251106T140000
DTSTAMP:20260421T052514
CREATED:20250918T142350Z
LAST-MODIFIED:20250918T145705Z
UID:15349-1762432200-1762437600@brantsafetyvillage.ca
SUMMARY:BID 639 Grade 2 - Fire Program - PM - Approx 27 students
DESCRIPTION:
URL:https://brantsafetyvillage.ca/event/grade-2-fire-program-pm-approx-27-students/
CATEGORIES:Brantford Fire,Grade 2
END:VEVENT
BEGIN:VEVENT
DTSTART;TZID=UTC:20251113T100000
DTEND;TZID=UTC:20251113T113000
DTSTAMP:20260421T052514
CREATED:20250918T142646Z
LAST-MODIFIED:20250918T145757Z
UID:15354-1763028000-1763033400@brantsafetyvillage.ca
SUMMARY:BID 641 Grade 2 Fire Program - AM - Approx 5 students
DESCRIPTION:
URL:https://brantsafetyvillage.ca/event/grade-2-fire-program-am-approx-5-students/
CATEGORIES:Brantford Fire,Grade 2
END:VEVENT
BEGIN:VEVENT
DTSTART;TZID=UTC:20251113T123000
DTEND;TZID=UTC:20251113T140000
DTSTAMP:20260421T052514
CREATED:20250925T144930Z
LAST-MODIFIED:20250925T150545Z
UID:15400-1763037000-1763042400@brantsafetyvillage.ca
SUMMARY:BID 650 Grade 2 Fire Program - PM - Approx 30 students
DESCRIPTION:
URL:https://brantsafetyvillage.ca/event/grade-2-fire-program-pm-approx-30-students-4/
CATEGORIES:Brantford Fire,Grade 2
END:VEVENT
BEGIN:VEVENT
DTSTART;TZID=UTC:20251117T100000
DTEND;TZID=UTC:20251117T113000
DTSTAMP:20260421T052514
CREATED:20251008T153257Z
LAST-MODIFIED:20251008T153257Z
UID:15423-1763373600-1763379000@brantsafetyvillage.ca
SUMMARY:BID 592 Grade 2 Fire Safety (AM) - Approx. 25 Students.
DESCRIPTION:
URL:https://brantsafetyvillage.ca/event/bid-592-grade-2-fire-safety-am-approx-25-students/
CATEGORIES:Grade 2,Six Nations Fire
END:VEVENT
BEGIN:VEVENT
DTSTART;TZID=UTC:20260428T123000
DTEND;TZID=UTC:20260428T140000
DTSTAMP:20260421T052514
CREATED:20251203T191204Z
LAST-MODIFIED:20251211T150514Z
UID:15718-1777379400-1777384800@brantsafetyvillage.ca
SUMMARY:BID 682 Grade 2 Fire Program PM - Approx 30 students
DESCRIPTION:
URL:https://brantsafetyvillage.ca/event/grade-2-fire-program-pm-approx-30-students-5/
CATEGORIES:Grade 2,Norfolk County Fire
END:VEVENT
END:VCALENDAR