BEGIN:VCALENDAR
VERSION:2.0
PRODID:-//Brant Safety Village - ECPv6.15.20//NONSGML v1.0//EN
CALSCALE:GREGORIAN
METHOD:PUBLISH
X-ORIGINAL-URL:https://brantsafetyvillage.ca
X-WR-CALDESC:Events for Brant Safety Village
REFRESH-INTERVAL;VALUE=DURATION:PT1H
X-Robots-Tag:noindex
X-PUBLISHED-TTL:PT1H
BEGIN:VTIMEZONE
TZID:UTC
BEGIN:STANDARD
TZOFFSETFROM:+0000
TZOFFSETTO:+0000
TZNAME:UTC
DTSTART:20250101T000000
END:STANDARD
END:VTIMEZONE
BEGIN:VEVENT
DTSTART;TZID=UTC:20260602T100000
DTEND;TZID=UTC:20260602T113000
DTSTAMP:20260419T225634
CREATED:20251105T174038Z
LAST-MODIFIED:20251105T191011Z
UID:15589-1780394400-1780399800@brantsafetyvillage.ca
SUMMARY:BID 667 Grade 3 Bicycle Program - AM - Approx 25 students
DESCRIPTION:
URL:https://brantsafetyvillage.ca/event/grade-3-bicycle-program-am-approx-25-students/
CATEGORIES:Brant County OPP,Grade 3
END:VEVENT
BEGIN:VEVENT
DTSTART;TZID=UTC:20260602T123000
DTEND;TZID=UTC:20260602T140000
DTSTAMP:20260419T225634
CREATED:20260107T165213Z
LAST-MODIFIED:20260107T165809Z
UID:15811-1780403400-1780408800@brantsafetyvillage.ca
SUMMARY:BID 699 Grade 3 Bicycle Program PM - Approx 30 students
DESCRIPTION:
URL:https://brantsafetyvillage.ca/event/bid-699-bicycle-program-pm-approx-30-students/
CATEGORIES:Brant County OPP,Grade 3
END:VEVENT
BEGIN:VEVENT
DTSTART;TZID=UTC:20260604T123000
DTEND;TZID=UTC:20260604T140000
DTSTAMP:20260419T225634
CREATED:20260408T172326Z
LAST-MODIFIED:20260408T172710Z
UID:16079-1780576200-1780581600@brantsafetyvillage.ca
SUMMARY:BID 757 Grade 3 Bicycle Safety - PM - Approx 22 students
DESCRIPTION:
URL:https://brantsafetyvillage.ca/event/bid-757-grade-3-bicycle-safety-pm-approx-22-students/
CATEGORIES:Brantford Police,Grade 3
END:VEVENT
BEGIN:VEVENT
DTSTART;TZID=UTC:20260610T100000
DTEND;TZID=UTC:20260610T113000
DTSTAMP:20260419T225634
CREATED:20260304T151443Z
LAST-MODIFIED:20260304T151443Z
UID:16005-1781085600-1781091000@brantsafetyvillage.ca
SUMMARY:BID 744 Bicycle Program - AM - Approx 22 students
DESCRIPTION:
URL:https://brantsafetyvillage.ca/event/bid-744-bicycle-program-am-approx-22-students/
CATEGORIES:Brantford Police,Grade 3
END:VEVENT
BEGIN:VEVENT
DTSTART;TZID=UTC:20260612T100000
DTEND;TZID=UTC:20260612T113000
DTSTAMP:20260419T225634
CREATED:20260327T151508Z
LAST-MODIFIED:20260327T151754Z
UID:16058-1781258400-1781263800@brantsafetyvillage.ca
SUMMARY:BID 754 Grade 3 Bicycle Safety Program (AM) - Approx. 17 students
DESCRIPTION:
URL:https://brantsafetyvillage.ca/event/bid-754-grade-3-bicycle-safety-program-am-approx-17/
CATEGORIES:Brantford Police,Grade 3
END:VEVENT
BEGIN:VEVENT
DTSTART;TZID=UTC:20260619T100000
DTEND;TZID=UTC:20260619T113000
DTSTAMP:20260419T225634
CREATED:20260408T172442Z
LAST-MODIFIED:20260408T172655Z
UID:16081-1781863200-1781868600@brantsafetyvillage.ca
SUMMARY:BID 758 Grade 3 Bicycle Program - AM - Approx 21 students
DESCRIPTION:
URL:https://brantsafetyvillage.ca/event/bid-758-grade-3-bicycle-program-am-approx-21-students/
CATEGORIES:Brantford Police,Grade 3
END:VEVENT
BEGIN:VEVENT
DTSTART;TZID=UTC:20260619T123000
DTEND;TZID=UTC:20260619T140000
DTSTAMP:20260419T225634
CREATED:20260408T172601Z
LAST-MODIFIED:20260408T172601Z
UID:16083-1781872200-1781877600@brantsafetyvillage.ca
SUMMARY:BID 759 Grade 3 Bicycle Program - PM - Approx 29 students
DESCRIPTION:
URL:https://brantsafetyvillage.ca/event/bid-759-grade-3-bicycle-program-pm-approx-29-students/
CATEGORIES:Brantford Police,Grade 3
END:VEVENT
END:VCALENDAR