BEGIN:VCALENDAR
VERSION:2.0
PRODID:-//Brant Safety Village - ECPv6.15.20//NONSGML v1.0//EN
CALSCALE:GREGORIAN
METHOD:PUBLISH
X-WR-CALNAME:Brant Safety Village
X-ORIGINAL-URL:https://brantsafetyvillage.ca
X-WR-CALDESC:Events for Brant Safety Village
REFRESH-INTERVAL;VALUE=DURATION:PT1H
X-Robots-Tag:noindex
X-PUBLISHED-TTL:PT1H
BEGIN:VTIMEZONE
TZID:UTC
BEGIN:STANDARD
TZOFFSETFROM:+0000
TZOFFSETTO:+0000
TZNAME:UTC
DTSTART:20240101T000000
END:STANDARD
END:VTIMEZONE
BEGIN:VEVENT
DTSTART;TZID=UTC:20250522T183000
DTEND;TZID=UTC:20250522T200000
DTSTAMP:20260420T091229
CREATED:20250123T163108Z
LAST-MODIFIED:20250221T162709Z
UID:14483-1747938600-1747944000@brantsafetyvillage.ca
SUMMARY:Safety Badge - Girl Guides
DESCRIPTION:
URL:https://brantsafetyvillage.ca/event/safety-badge-girl-guides-12/
CATEGORIES:Brant County OPP,Girl Guides
END:VEVENT
BEGIN:VEVENT
DTSTART;TZID=UTC:20250514T183000
DTEND;TZID=UTC:20250514T200000
DTSTAMP:20260420T091229
CREATED:20250123T162302Z
LAST-MODIFIED:20250221T162626Z
UID:14471-1747247400-1747252800@brantsafetyvillage.ca
SUMMARY:Safety Badge - Girl Guides
DESCRIPTION:
URL:https://brantsafetyvillage.ca/event/safety-badge-girl-guides-8/
CATEGORIES:Brant County OPP,Girl Guides
END:VEVENT
BEGIN:VEVENT
DTSTART;TZID=UTC:20250416T180000
DTEND;TZID=UTC:20250416T190000
DTSTAMP:20260420T091229
CREATED:20250124T185940Z
LAST-MODIFIED:20250221T162512Z
UID:14489-1744826400-1744830000@brantsafetyvillage.ca
SUMMARY:Safety Badge - Girl Guides
DESCRIPTION:
URL:https://brantsafetyvillage.ca/event/safety-badge-girl-guides-13/
CATEGORIES:Brant County OPP,Girl Guides
END:VEVENT
BEGIN:VEVENT
DTSTART;TZID=UTC:20250409T180000
DTEND;TZID=UTC:20250409T193000
DTSTAMP:20260420T091229
CREATED:20241213T142807Z
LAST-MODIFIED:20250221T162421Z
UID:14240-1744221600-1744227000@brantsafetyvillage.ca
SUMMARY:Safety Badge - Girl Guides
DESCRIPTION:
URL:https://brantsafetyvillage.ca/event/safety-badge-girl-guides-2/
CATEGORIES:Brant County OPP,Brantford Police,Girl Guides
END:VEVENT
BEGIN:VEVENT
DTSTART;TZID=UTC:20250408T180000
DTEND;TZID=UTC:20250408T193000
DTSTAMP:20260420T091229
CREATED:20241213T142618Z
LAST-MODIFIED:20250221T162031Z
UID:14238-1744135200-1744140600@brantsafetyvillage.ca
SUMMARY:Safety badge - Girl guides
DESCRIPTION:
URL:https://brantsafetyvillage.ca/event/safety-badge-girl-guides/
CATEGORIES:Brantford Police,Girl Guides
END:VEVENT
BEGIN:VEVENT
DTSTART;TZID=UTC:20250402T183000
DTEND;TZID=UTC:20250402T193000
DTSTAMP:20260420T091229
CREATED:20250123T160010Z
LAST-MODIFIED:20250221T162903Z
UID:14463-1743618600-1743622200@brantsafetyvillage.ca
SUMMARY:Safety Badge - Girl Guides
DESCRIPTION:
URL:https://brantsafetyvillage.ca/event/safety-badge-girl-guides-4/
CATEGORIES:Brant County OPP,Girl Guides
END:VEVENT
END:VCALENDAR