BEGIN:VCALENDAR
VERSION:2.0
PRODID:-//Brant Safety Village - ECPv6.15.20//NONSGML v1.0//EN
CALSCALE:GREGORIAN
METHOD:PUBLISH
X-ORIGINAL-URL:https://brantsafetyvillage.ca
X-WR-CALDESC:Events for Brant Safety Village
REFRESH-INTERVAL;VALUE=DURATION:PT1H
X-Robots-Tag:noindex
X-PUBLISHED-TTL:PT1H
BEGIN:VTIMEZONE
TZID:UTC
BEGIN:STANDARD
TZOFFSETFROM:+0000
TZOFFSETTO:+0000
TZNAME:UTC
DTSTART:20220101T000000
END:STANDARD
END:VTIMEZONE
BEGIN:VEVENT
DTSTART;TZID=UTC:20240424T123000
DTEND;TZID=UTC:20240424T140000
DTSTAMP:20260420T005832
CREATED:20240320T154313Z
LAST-MODIFIED:20240320T154313Z
UID:11754-1713961800-1713967200@brantsafetyvillage.ca
SUMMARY:KIndergarten - Approx 50 students
DESCRIPTION:
URL:https://brantsafetyvillage.ca/event/kindergarten-approx-50-students-2/
CATEGORIES:Brantford Fire,Brantford Police,Kindergarten
END:VEVENT
BEGIN:VEVENT
DTSTART;TZID=UTC:20240424T100000
DTEND;TZID=UTC:20240424T113000
DTSTAMP:20260420T005832
CREATED:20240320T140922Z
LAST-MODIFIED:20240320T140922Z
UID:11751-1713952800-1713958200@brantsafetyvillage.ca
SUMMARY:Kindergarten - approx 30 students
DESCRIPTION:
URL:https://brantsafetyvillage.ca/event/kindergarten-approx-30-students/
CATEGORIES:Brantford Fire,Brantford Police,Kindergarten
END:VEVENT
BEGIN:VEVENT
DTSTART;TZID=UTC:20240419T123000
DTEND;TZID=UTC:20240419T140000
DTSTAMP:20260420T005832
CREATED:20240306T182700Z
LAST-MODIFIED:20240306T182700Z
UID:11713-1713529800-1713535200@brantsafetyvillage.ca
SUMMARY:Kindergarten
DESCRIPTION:
URL:https://brantsafetyvillage.ca/event/kindergarten-3/
CATEGORIES:Brantford Fire,Brantford Police,Kindergarten
END:VEVENT
BEGIN:VEVENT
DTSTART;TZID=UTC:20240418T100000
DTEND;TZID=UTC:20240418T113000
DTSTAMP:20260420T005832
CREATED:20231116T181012Z
LAST-MODIFIED:20231116T181012Z
UID:11414-1713434400-1713439800@brantsafetyvillage.ca
SUMMARY:Kindergarten
DESCRIPTION:
URL:https://brantsafetyvillage.ca/event/kindergarten-2/
CATEGORIES:Brantford Police,Kindergarten
END:VEVENT
BEGIN:VEVENT
DTSTART;TZID=UTC:20240418T100000
DTEND;TZID=UTC:20240418T113000
DTSTAMP:20260420T005832
CREATED:20231116T180929Z
LAST-MODIFIED:20231116T180929Z
UID:11412-1713434400-1713439800@brantsafetyvillage.ca
SUMMARY:Kindergarten
DESCRIPTION:
URL:https://brantsafetyvillage.ca/event/kindergarten/
CATEGORIES:Brantford Fire,Kindergarten
END:VEVENT
BEGIN:VEVENT
DTSTART;TZID=UTC:20240412T100000
DTEND;TZID=UTC:20240412T113000
DTSTAMP:20260420T005832
CREATED:20231115T180040Z
LAST-MODIFIED:20231116T181259Z
UID:11405-1712916000-1712921400@brantsafetyvillage.ca
SUMMARY:Kindergarten - Approx 45 students
DESCRIPTION:
URL:https://brantsafetyvillage.ca/event/kindergarten-approx-22-students-2/
CATEGORIES:Brantford Police,Kindergarten
END:VEVENT
BEGIN:VEVENT
DTSTART;TZID=UTC:20240412T100000
DTEND;TZID=UTC:20240412T113000
DTSTAMP:20260420T005832
CREATED:20231115T175838Z
LAST-MODIFIED:20231116T181315Z
UID:11403-1712916000-1712921400@brantsafetyvillage.ca
SUMMARY:Kindergarten - Approx 45 Students
DESCRIPTION:
URL:https://brantsafetyvillage.ca/event/kindergarten-approx-22-students/
CATEGORIES:Brantford Fire,Kindergarten
END:VEVENT
BEGIN:VEVENT
DTSTART;TZID=UTC:20230605T100000
DTEND;TZID=UTC:20230605T113000
DTSTAMP:20260420T005832
CREATED:20230419T150109Z
LAST-MODIFIED:20230419T162709Z
UID:10311-1685959200-1685964600@brantsafetyvillage.ca
SUMMARY:Kindergarten - Approx 29 students
DESCRIPTION:
URL:https://brantsafetyvillage.ca/event/kindergarten-approx-29-students-4/
CATEGORIES:Kindergarten,Six Nations Police
END:VEVENT
BEGIN:VEVENT
DTSTART;TZID=UTC:20230602T100000
DTEND;TZID=UTC:20230602T113000
DTSTAMP:20260420T005832
CREATED:20230328T172801Z
LAST-MODIFIED:20230328T172801Z
UID:10108-1685700000-1685705400@brantsafetyvillage.ca
SUMMARY:Kindergarten (Approx 19 Students)
DESCRIPTION:
URL:https://brantsafetyvillage.ca/event/kindergarten-approx-19-students/
CATEGORIES:Brantford Fire,Brantford Police,Kindergarten
END:VEVENT
BEGIN:VEVENT
DTSTART;TZID=UTC:20230526T100000
DTEND;TZID=UTC:20230526T113000
DTSTAMP:20260420T005832
CREATED:20230328T171509Z
LAST-MODIFIED:20230328T171509Z
UID:10102-1685095200-1685100600@brantsafetyvillage.ca
SUMMARY:Kindergarten - (Approx 47 students)
DESCRIPTION:
URL:https://brantsafetyvillage.ca/event/kindergarten-approx-47-students-2/
CATEGORIES:Brantford Fire,Brantford Police,Kindergarten
END:VEVENT
BEGIN:VEVENT
DTSTART;TZID=UTC:20230518T100000
DTEND;TZID=UTC:20230518T113000
DTSTAMP:20260420T005832
CREATED:20230412T180444Z
LAST-MODIFIED:20230412T180730Z
UID:10280-1684404000-1684409400@brantsafetyvillage.ca
SUMMARY:Kindergarten - Approx 57 Students
DESCRIPTION:2 classes combined
URL:https://brantsafetyvillage.ca/event/kindergarten-approx-57-students/
CATEGORIES:Brantford Fire,Brantford Police,Kindergarten
END:VEVENT
BEGIN:VEVENT
DTSTART;TZID=UTC:20230517T100000
DTEND;TZID=UTC:20230517T113000
DTSTAMP:20260420T005832
CREATED:20230412T180339Z
LAST-MODIFIED:20230412T180822Z
UID:10278-1684317600-1684323000@brantsafetyvillage.ca
SUMMARY:Kindergarten - Approx 48 students
DESCRIPTION:
URL:https://brantsafetyvillage.ca/event/kindergarten-approx-48-students-2/
CATEGORIES:Brantford Fire,Brantford Police,Kindergarten
END:VEVENT
BEGIN:VEVENT
DTSTART;TZID=UTC:20230502T100000
DTEND;TZID=UTC:20230502T113000
DTSTAMP:20260420T005832
CREATED:20230418T182647Z
LAST-MODIFIED:20230418T182647Z
UID:10300-1683021600-1683027000@brantsafetyvillage.ca
SUMMARY:Kindergarten - 60 students
DESCRIPTION:
URL:https://brantsafetyvillage.ca/event/kindergarten-60-students/
CATEGORIES:Brantford Police,County of Brant Fire,Kindergarten
END:VEVENT
BEGIN:VEVENT
DTSTART;TZID=UTC:20230427T100000
DTEND;TZID=UTC:20230427T113000
DTSTAMP:20260420T005832
CREATED:20230308T152111Z
LAST-MODIFIED:20230308T152247Z
UID:10001-1682589600-1682595000@brantsafetyvillage.ca
SUMMARY:kindergarten (Approx 32 students)
DESCRIPTION:
URL:https://brantsafetyvillage.ca/event/kindergarten-approx-32-students/
CATEGORIES:Brantford Fire,Brantford Police,Kindergarten
END:VEVENT
BEGIN:VEVENT
DTSTART;TZID=UTC:20230426T100000
DTEND;TZID=UTC:20230426T113000
DTSTAMP:20260420T005832
CREATED:20220927T144133Z
LAST-MODIFIED:20230426T131635Z
UID:7125-1682503200-1682508600@brantsafetyvillage.ca
SUMMARY:Police and Fire - Kindergarten (Approx. 30 students)
DESCRIPTION:
URL:https://brantsafetyvillage.ca/event/police-and-fire-kindergarten-bellview-approx-30-students/
CATEGORIES:Brantford Fire,Brantford Police,Kindergarten
END:VEVENT
BEGIN:VEVENT
DTSTART;TZID=UTC:20230425T100000
DTEND;TZID=UTC:20230425T113000
DTSTAMP:20260420T005832
CREATED:20230412T185302Z
LAST-MODIFIED:20230413T134613Z
UID:10283-1682416800-1682422200@brantsafetyvillage.ca
SUMMARY:Kindergarten - Approx 50 students
DESCRIPTION:
URL:https://brantsafetyvillage.ca/event/kindergarten-approx-50-students/
CATEGORIES:Brantford Police,County of Brant Fire,Kindergarten
END:VEVENT
BEGIN:VEVENT
DTSTART;TZID=UTC:20230413T100000
DTEND;TZID=UTC:20230413T113000
DTSTAMP:20260420T005832
CREATED:20230209T145943Z
LAST-MODIFIED:20230412T181141Z
UID:9831-1681380000-1681385400@brantsafetyvillage.ca
SUMMARY:Kindergarten (Approx 29 Students)
DESCRIPTION:
URL:https://brantsafetyvillage.ca/event/kindergarten-approx-29-students-2/
CATEGORIES:Brantford Fire,Brantford Police,Kindergarten
END:VEVENT
BEGIN:VEVENT
DTSTART;TZID=UTC:20230413T100000
DTEND;TZID=UTC:20230413T113000
DTSTAMP:20260420T005832
CREATED:20230209T145830Z
LAST-MODIFIED:20230209T145830Z
UID:9829-1681380000-1681385400@brantsafetyvillage.ca
SUMMARY:Kindergarten (Approx 29 students)
DESCRIPTION:
URL:https://brantsafetyvillage.ca/event/kindergarten-approx-29-students/
CATEGORIES:Brantford Police,Kindergarten
END:VEVENT
BEGIN:VEVENT
DTSTART;TZID=UTC:20230411T100000
DTEND;TZID=UTC:20230411T113000
DTSTAMP:20260420T005832
CREATED:20230201T151424Z
LAST-MODIFIED:20230201T151424Z
UID:9715-1681207200-1681212600@brantsafetyvillage.ca
SUMMARY:Kindergarten (Approx. 40 Students)
DESCRIPTION:Kindergarten programme
URL:https://brantsafetyvillage.ca/event/kindergarten-approx-40-students/
CATEGORIES:Brantford Police,Kindergarten,Norfolk County Fire
END:VEVENT
BEGIN:VEVENT
DTSTART;TZID=UTC:20230404T100000
DTEND;TZID=UTC:20230404T113000
DTSTAMP:20260420T005832
CREATED:20230201T151306Z
LAST-MODIFIED:20230201T151601Z
UID:9713-1680602400-1680607800@brantsafetyvillage.ca
SUMMARY:Kindergarten (Approx. 40 students)
DESCRIPTION:Kindergarten program
URL:https://brantsafetyvillage.ca/event/kindergarten-approx-20-students/
CATEGORIES:Brantford Police,Kindergarten,Norfolk County Fire
END:VEVENT
END:VCALENDAR