BEGIN:VCALENDAR
VERSION:2.0
PRODID:-//Brant Safety Village - ECPv6.15.20//NONSGML v1.0//EN
CALSCALE:GREGORIAN
METHOD:PUBLISH
X-WR-CALNAME:Brant Safety Village
X-ORIGINAL-URL:https://brantsafetyvillage.ca
X-WR-CALDESC:Events for Brant Safety Village
REFRESH-INTERVAL;VALUE=DURATION:PT1H
X-Robots-Tag:noindex
X-PUBLISHED-TTL:PT1H
BEGIN:VTIMEZONE
TZID:UTC
BEGIN:STANDARD
TZOFFSETFROM:+0000
TZOFFSETTO:+0000
TZNAME:UTC
DTSTART:20250101T000000
END:STANDARD
END:VTIMEZONE
BEGIN:VEVENT
DTSTART;TZID=UTC:20260310T160000
DTEND;TZID=UTC:20260310T170000
DTSTAMP:20260420T003159
CREATED:20260220T142240Z
LAST-MODIFIED:20260305T143842Z
UID:15964-1773158400-1773162000@brantsafetyvillage.ca
SUMMARY:CSV Board Meeting
DESCRIPTION:
URL:https://brantsafetyvillage.ca/event/board-meeting/
CATEGORIES:Meeting
END:VEVENT
END:VCALENDAR