BEGIN:VCALENDAR
VERSION:2.0
PRODID:-//Brant Safety Village - ECPv6.15.20//NONSGML v1.0//EN
CALSCALE:GREGORIAN
METHOD:PUBLISH
X-ORIGINAL-URL:https://brantsafetyvillage.ca
X-WR-CALDESC:Events for Brant Safety Village
REFRESH-INTERVAL;VALUE=DURATION:PT1H
X-Robots-Tag:noindex
X-PUBLISHED-TTL:PT1H
BEGIN:VTIMEZONE
TZID:UTC
BEGIN:STANDARD
TZOFFSETFROM:+0000
TZOFFSETTO:+0000
TZNAME:UTC
DTSTART:20250101T000000
END:STANDARD
END:VTIMEZONE
BEGIN:VEVENT
DTSTART;TZID=UTC:20260425T093000
DTEND;TZID=UTC:20260425T133000
DTSTAMP:20260420T003221
CREATED:20250626T135151Z
LAST-MODIFIED:20251104T142113Z
UID:15006-1777109400-1777123800@brantsafetyvillage.ca
SUMMARY:ADS
DESCRIPTION:
URL:https://brantsafetyvillage.ca/event/ads/
CATEGORIES:Meeting
END:VEVENT
BEGIN:VEVENT
DTSTART;TZID=UTC:20260606T080000
DTEND;TZID=UTC:20260606T170000
DTSTAMP:20260420T003221
CREATED:20250626T135251Z
LAST-MODIFIED:20250626T135251Z
UID:15008-1780732800-1780765200@brantsafetyvillage.ca
SUMMARY:ADS - Graduation
DESCRIPTION:
URL:https://brantsafetyvillage.ca/event/ads-graduation/
CATEGORIES:Meeting
END:VEVENT
BEGIN:VEVENT
DTSTART;TZID=UTC:20260622T100000
DTEND;TZID=UTC:20260622T123000
DTSTAMP:20260420T003221
CREATED:20250626T135347Z
LAST-MODIFIED:20250626T135347Z
UID:15010-1782122400-1782131400@brantsafetyvillage.ca
SUMMARY:ADS - Meeting
DESCRIPTION:
URL:https://brantsafetyvillage.ca/event/ads-meeting/
CATEGORIES:Meeting
END:VEVENT
BEGIN:VEVENT
DTSTART;TZID=UTC:20260914T100000
DTEND;TZID=UTC:20260914T123000
DTSTAMP:20260420T003221
CREATED:20250626T135502Z
LAST-MODIFIED:20250626T135502Z
UID:15012-1789380000-1789389000@brantsafetyvillage.ca
SUMMARY:ADS - Meeting
DESCRIPTION:
URL:https://brantsafetyvillage.ca/event/ads-meeting-2/
CATEGORIES:Meeting
END:VEVENT
BEGIN:VEVENT
DTSTART;TZID=UTC:20260926T093000
DTEND;TZID=UTC:20260926T133000
DTSTAMP:20260420T003221
CREATED:20250626T135603Z
LAST-MODIFIED:20250626T135603Z
UID:15014-1790415000-1790429400@brantsafetyvillage.ca
SUMMARY:ADS - Meeting
DESCRIPTION:
URL:https://brantsafetyvillage.ca/event/ads-meeting-3/
CATEGORIES:Meeting
END:VEVENT
END:VCALENDAR