BEGIN:VCALENDAR
VERSION:2.0
PRODID:-//Brant Safety Village - ECPv6.15.20//NONSGML v1.0//EN
CALSCALE:GREGORIAN
METHOD:PUBLISH
X-ORIGINAL-URL:https://brantsafetyvillage.ca
X-WR-CALDESC:Events for Brant Safety Village
REFRESH-INTERVAL;VALUE=DURATION:PT1H
X-Robots-Tag:noindex
X-PUBLISHED-TTL:PT1H
BEGIN:VTIMEZONE
TZID:UTC
BEGIN:STANDARD
TZOFFSETFROM:+0000
TZOFFSETTO:+0000
TZNAME:UTC
DTSTART:20220101T000000
END:STANDARD
END:VTIMEZONE
BEGIN:VEVENT
DTSTART;VALUE=DATE:20230101
DTEND;VALUE=DATE:20230102
DTSTAMP:20260420T220219
CREATED:20220812T032056Z
LAST-MODIFIED:20220915T132808Z
UID:6142-1672531200-1672617599@brantsafetyvillage.ca
SUMMARY:New Year's Day
DESCRIPTION:
URL:https://brantsafetyvillage.ca/event/new-years-day/
ATTACH;FMTTYPE=image/jpeg:https://brantsafetyvillage.ca/wp-content/uploads/2022/08/New-Year-2023.jpg
END:VEVENT
BEGIN:VEVENT
DTSTART;TZID=UTC:20230111T090000
DTEND;TZID=UTC:20230111T143000
DTSTAMP:20260420T220219
CREATED:20221202T035224Z
LAST-MODIFIED:20221202T170301Z
UID:8579-1673427600-1673447400@brantsafetyvillage.ca
SUMMARY:K.I.D.S. (approx. 20 students)
DESCRIPTION:
URL:https://brantsafetyvillage.ca/event/k-i-d-s-approx-20-students/
CATEGORIES:Brantford Fire,Brantford Police,Grade 6
END:VEVENT
BEGIN:VEVENT
DTSTART;TZID=UTC:20230112T090000
DTEND;TZID=UTC:20230112T143000
DTSTAMP:20260420T220219
CREATED:20221202T035224Z
LAST-MODIFIED:20221202T170301Z
UID:8580-1673514000-1673533800@brantsafetyvillage.ca
SUMMARY:K.I.D.S. (approx. 20 students)
DESCRIPTION:
URL:https://brantsafetyvillage.ca/event/k-i-d-s-approx-20-students-2/
CATEGORIES:Brantford Fire,Brantford Police,Grade 6
END:VEVENT
BEGIN:VEVENT
DTSTART;TZID=UTC:20230113T090000
DTEND;TZID=UTC:20230113T143000
DTSTAMP:20260420T220219
CREATED:20221202T035224Z
LAST-MODIFIED:20221202T170301Z
UID:8581-1673600400-1673620200@brantsafetyvillage.ca
SUMMARY:K.I.D.S. (approx. 26 students)
DESCRIPTION:
URL:https://brantsafetyvillage.ca/event/k-i-d-s-approx-26-students-3/
CATEGORIES:Brantford Fire,Brantford Police,Grade 6
END:VEVENT
BEGIN:VEVENT
DTSTART;TZID=UTC:20230117T123000
DTEND;TZID=UTC:20230117T140000
DTSTAMP:20260420T220219
CREATED:20220927T141850Z
LAST-MODIFIED:20221202T041301Z
UID:7096-1673958600-1673964000@brantsafetyvillage.ca
SUMMARY:Grade 7/8 Social Media (Approx 50 students)
DESCRIPTION:
URL:https://brantsafetyvillage.ca/event/grade-8-social-media-holy-cross-approx-33-students/
CATEGORIES:Brantford Police,Grade 8
END:VEVENT
BEGIN:VEVENT
DTSTART;TZID=UTC:20230118T090000
DTEND;TZID=UTC:20230118T143000
DTSTAMP:20260420T220219
CREATED:20221202T035224Z
LAST-MODIFIED:20221202T170301Z
UID:8582-1674032400-1674052200@brantsafetyvillage.ca
SUMMARY:K.I.D.S. 2 schools (approx. 15+14 students)
DESCRIPTION:
URL:https://brantsafetyvillage.ca/event/k-i-d-s-2-schools-approx-1514-students/
CATEGORIES:Brantford Fire,Brantford Police,Grade 6
END:VEVENT
BEGIN:VEVENT
DTSTART;TZID=UTC:20230119T090000
DTEND;TZID=UTC:20230119T143000
DTSTAMP:20260420T220219
CREATED:20221202T035239Z
LAST-MODIFIED:20221202T170316Z
UID:8583-1674118800-1674138600@brantsafetyvillage.ca
SUMMARY:K.I.D.S. (approx. 23 students)
DESCRIPTION:
URL:https://brantsafetyvillage.ca/event/k-i-d-s-approx-23-students-2/
CATEGORIES:Brantford Fire,Brantford Police,Grade 6
END:VEVENT
BEGIN:VEVENT
DTSTART;TZID=UTC:20230120T000000
DTEND;TZID=UTC:20230120T000000
DTSTAMP:20260420T220219
CREATED:20221202T035239Z
LAST-MODIFIED:20230117T180106Z
UID:8584-1674172800-1674172800@brantsafetyvillage.ca
SUMMARY:K.I.D.S. (approx. 31 students)
DESCRIPTION:Cancelled
URL:https://brantsafetyvillage.ca/event/k-i-d-s-approx-31-students/
END:VEVENT
BEGIN:VEVENT
DTSTART;TZID=UTC:20230124T100000
DTEND;TZID=UTC:20230124T113000
DTSTAMP:20260420T220219
CREATED:20220927T143103Z
LAST-MODIFIED:20221202T041309Z
UID:7106-1674554400-1674559800@brantsafetyvillage.ca
SUMMARY:Grade 5 - Internet Safety (Approx. 28 students)
DESCRIPTION:
URL:https://brantsafetyvillage.ca/event/grade-5-internet-safety-walter-gretzky-approx-28-students/
CATEGORIES:Brantford Police,Grade 5
END:VEVENT
BEGIN:VEVENT
DTSTART;TZID=UTC:20230124T123000
DTEND;TZID=UTC:20230124T140000
DTSTAMP:20260420T220219
CREATED:20221007T191356Z
LAST-MODIFIED:20221202T041316Z
UID:7332-1674563400-1674568800@brantsafetyvillage.ca
SUMMARY:Grade 7 Social Media (Approx 50 students)
DESCRIPTION:
URL:https://brantsafetyvillage.ca/event/grade-7-social-media-st-basils-approx-50/
CATEGORIES:Brantford Police,Grade 7
END:VEVENT
BEGIN:VEVENT
DTSTART;TZID=UTC:20230125T090000
DTEND;TZID=UTC:20230125T143000
DTSTAMP:20260420T220219
CREATED:20221202T035239Z
LAST-MODIFIED:20221202T170316Z
UID:8585-1674637200-1674657000@brantsafetyvillage.ca
SUMMARY:K.I.D.S. (approx. 30 students)
DESCRIPTION:
URL:https://brantsafetyvillage.ca/event/k-i-d-s-approx-30-students/
CATEGORIES:Brantford Fire,Brantford Police,Grade 6
END:VEVENT
BEGIN:VEVENT
DTSTART;TZID=UTC:20230126T090000
DTEND;TZID=UTC:20230126T143000
DTSTAMP:20260420T220219
CREATED:20221202T035239Z
LAST-MODIFIED:20221202T170316Z
UID:8586-1674723600-1674743400@brantsafetyvillage.ca
SUMMARY:K.I.D.S. (approx. 25 students)
DESCRIPTION:
URL:https://brantsafetyvillage.ca/event/k-i-d-s-approx-25-students/
CATEGORIES:Brantford Fire,Brantford Police,Grade 6
END:VEVENT
BEGIN:VEVENT
DTSTART;TZID=UTC:20230127T090000
DTEND;TZID=UTC:20230127T143000
DTSTAMP:20260420T220219
CREATED:20221202T035239Z
LAST-MODIFIED:20221202T170316Z
UID:8587-1674810000-1674829800@brantsafetyvillage.ca
SUMMARY:K.I.D.S. (approx. 28 students)
DESCRIPTION:
URL:https://brantsafetyvillage.ca/event/k-i-d-s-approx-28-students-2/
CATEGORIES:Brantford Fire,Brantford Police,Grade 6
END:VEVENT
END:VCALENDAR