BEGIN:VCALENDAR
VERSION:2.0
PRODID:-//Brant Safety Village - ECPv6.15.20//NONSGML v1.0//EN
CALSCALE:GREGORIAN
METHOD:PUBLISH
X-ORIGINAL-URL:https://brantsafetyvillage.ca
X-WR-CALDESC:Events for Brant Safety Village
REFRESH-INTERVAL;VALUE=DURATION:PT1H
X-Robots-Tag:noindex
X-PUBLISHED-TTL:PT1H
BEGIN:VTIMEZONE
TZID:UTC
BEGIN:STANDARD
TZOFFSETFROM:+0000
TZOFFSETTO:+0000
TZNAME:UTC
DTSTART:20220101T000000
END:STANDARD
END:VTIMEZONE
BEGIN:VEVENT
DTSTART;VALUE=DATE:20230701
DTEND;VALUE=DATE:20230702
DTSTAMP:20260420T132131
CREATED:20220831T031546Z
LAST-MODIFIED:20220928T193456Z
UID:6329-1688169600-1688255999@brantsafetyvillage.ca
SUMMARY:Canada Day
DESCRIPTION:
URL:https://brantsafetyvillage.ca/event/canada-day/
ATTACH;FMTTYPE=image/jpeg:https://brantsafetyvillage.ca/wp-content/uploads/2022/08/Happy-Canada-Day.jpg
END:VEVENT
END:VCALENDAR