BEGIN:VCALENDAR
VERSION:2.0
PRODID:-//Brant Safety Village - ECPv6.15.20//NONSGML v1.0//EN
CALSCALE:GREGORIAN
METHOD:PUBLISH
X-ORIGINAL-URL:https://brantsafetyvillage.ca
X-WR-CALDESC:Events for Brant Safety Village
REFRESH-INTERVAL;VALUE=DURATION:PT1H
X-Robots-Tag:noindex
X-PUBLISHED-TTL:PT1H
BEGIN:VTIMEZONE
TZID:UTC
BEGIN:STANDARD
TZOFFSETFROM:+0000
TZOFFSETTO:+0000
TZNAME:UTC
DTSTART:20220101T000000
END:STANDARD
END:VTIMEZONE
BEGIN:VEVENT
DTSTART;VALUE=DATE:20230807
DTEND;VALUE=DATE:20230808
DTSTAMP:20260420T115126
CREATED:20220831T031625Z
LAST-MODIFIED:20220831T031625Z
UID:6331-1691366400-1691452799@brantsafetyvillage.ca
SUMMARY:Civic Holiday
DESCRIPTION:
URL:https://brantsafetyvillage.ca/event/civic-holiday/
END:VEVENT
BEGIN:VEVENT
DTSTART;TZID=UTC:20230822T010000
DTEND;TZID=UTC:20230822T170000
DTSTAMP:20260420T115126
CREATED:20230628T131717Z
LAST-MODIFIED:20230628T131854Z
UID:10513-1692666000-1692723600@brantsafetyvillage.ca
SUMMARY:Meeting - BTFD Fire
DESCRIPTION:
URL:https://brantsafetyvillage.ca/event/meeting-btfd-fire/
CATEGORIES:Brantford Fire
END:VEVENT
END:VCALENDAR